BEGIN:VCALENDAR
VERSION:2.0
PRODID:-//AusschreibungsRadar//Timeline//DE
CALSCALE:GREGORIAN
METHOD:PUBLISH
X-WR-CALNAME:Projekt B5, Eiderbrücke Tönning - Objektplanung, Lph 1-6, Neubau Dük
X-WR-TIMEZONE:Europe/Berlin
BEGIN:VEVENT
UID:15ce3132ecbf77ef@ausschreibungsradar.com
DTSTAMP:20260424T213026Z
DTSTART;VALUE=DATE:20260409
DTEND;VALUE=DATE:20260409
SUMMARY:Angebotsfrist — B5\, Eiderbrücke Tönning - Objektplanung\, Lph 1-6\, Neubau Dük
DESCRIPTION:Phase: Ausschreibung | Beschreibung: Angebote werden eingeholt | Link: https://ausschreibungsradar.com/ausschreibung/a97ebc60-dce5-49c8-8d9d-aed09966aacd/
URL:https://ausschreibungsradar.com/ausschreibung/a97ebc60-dce5-49c8-8d9d-aed09966aacd/
END:VEVENT
END:VCALENDAR
