BEGIN:VCALENDAR
VERSION:2.0
PRODID:-//AusschreibungsRadar//Timeline//DE
CALSCALE:GREGORIAN
METHOD:PUBLISH
X-WR-CALNAME:Projekt 2025-Bad Camberg_ELT Planung Bayr. Hof inkl. Anbau und ehem.
X-WR-TIMEZONE:Europe/Berlin
BEGIN:VEVENT
UID:1ef58551adc18f99@ausschreibungsradar.com
DTSTAMP:20260425T155213Z
DTSTART;VALUE=DATE:20250317
DTEND;VALUE=DATE:20250317
SUMMARY:Ausschreibung — 2025-Bad Camberg_ELT Planung Bayr. Hof inkl. Anbau und ehem.
DESCRIPTION:Phase: Ausschreibung | Beschreibung: Angebote werden eingeholt | Link: https://ausschreibungsradar.com/ausschreibung/69268f44-a5d8-4a2e-bb0b-b55b2b1bf61b/ | Geschätzter Wert: 32348 €
URL:https://ausschreibungsradar.com/ausschreibung/69268f44-a5d8-4a2e-bb0b-b55b2b1bf61b/
END:VEVENT
BEGIN:VEVENT
UID:948585e1ffd0715b@ausschreibungsradar.com
DTSTAMP:20260425T155213Z
DTSTART;VALUE=DATE:20250703
DTEND;VALUE=DATE:20250703
SUMMARY:Vergabeergebnis — 2025-Bad Camberg_ELT Planung Bayr. Hof inkl. Anbau und ehem.
DESCRIPTION:Phase: Vergabeergebnis | Beschreibung: Auftrag wurde zugeschlagen | Link: https://ausschreibungsradar.com/ausschreibung/a9992e7e-99e1-4fed-80c0-b0aaac58a6c2/ | Geschätzter Wert: 32348 €
URL:https://ausschreibungsradar.com/ausschreibung/a9992e7e-99e1-4fed-80c0-b0aaac58a6c2/
END:VEVENT
BEGIN:VEVENT
UID:41b791d68e6a2c28@ausschreibungsradar.com
DTSTAMP:20260425T155213Z
DTSTART;VALUE=DATE:20250703
DTEND;VALUE=DATE:20250703
SUMMARY:Zuschlag — 2025-Bad Camberg_ELT Planung Bayr. Hof inkl. Anbau und ehem.
DESCRIPTION:Phase: Zuschlag | Beschreibung: Vergabeergebnis — Auftrag wurde erteilt oder Verfahren beendet. | Link: https://ausschreibungsradar.com/ausschreibung/56b0fc67-6436-46e6-a679-467e378a1851/
URL:https://ausschreibungsradar.com/ausschreibung/56b0fc67-6436-46e6-a679-467e378a1851/
END:VEVENT
END:VCALENDAR
