BEGIN:VCALENDAR
VERSION:2.0
PRODID:-//AusschreibungsRadar//Timeline//DE
CALSCALE:GREGORIAN
METHOD:PUBLISH
X-WR-CALNAME:Projekt Kauf von 2 Gerätewagen Taucher (GW-T)
X-WR-TIMEZONE:Europe/Berlin
BEGIN:VEVENT
UID:daa506935fdf5802@ausschreibungsradar.com
DTSTAMP:20260424T120605Z
DTSTART;VALUE=DATE:20250828
DTEND;VALUE=DATE:20250828
SUMMARY:Zuschlag — Kauf von 2 Gerätewagen Taucher (GW-T)
DESCRIPTION:Phase: Zuschlag | Beschreibung: Vergabeergebnis — Auftrag wurde erteilt oder Verfahren beendet. | Link: https://ausschreibungsradar.com/ausschreibung/b08d038e-4fa4-4bdc-8f0b-2aa77c407fa2/
URL:https://ausschreibungsradar.com/ausschreibung/b08d038e-4fa4-4bdc-8f0b-2aa77c407fa2/
END:VEVENT
BEGIN:VEVENT
UID:78306ffb890e1569@ausschreibungsradar.com
DTSTAMP:20260424T120605Z
DTSTART;VALUE=DATE:20251021
DTEND;VALUE=DATE:20251021
SUMMARY:Angebotsfrist — Kauf von 2 Gerätewagen Taucher (GW-T)
DESCRIPTION:Phase: Ausschreibung | Beschreibung: Angebote werden eingeholt | Link: https://ausschreibungsradar.com/ausschreibung/a9ddba56-b817-4f8a-8dce-aab10d039f05/
URL:https://ausschreibungsradar.com/ausschreibung/a9ddba56-b817-4f8a-8dce-aab10d039f05/
END:VEVENT
BEGIN:VEVENT
UID:73cee21ba770d728@ausschreibungsradar.com
DTSTAMP:20260424T120605Z
DTSTART;VALUE=DATE:20250901
DTEND;VALUE=DATE:20250901
SUMMARY:Ausschreibung — Kauf von 2 Gerätewagen Taucher (GW-T)
DESCRIPTION:Phase: Ausschreibung | Beschreibung: Offizielle Ausschreibung mit Bieterfrist. | Link: https://ausschreibungsradar.com/ausschreibung/8f77f9a6-c867-45bf-94d7-1f795e8919b0/
URL:https://ausschreibungsradar.com/ausschreibung/8f77f9a6-c867-45bf-94d7-1f795e8919b0/
END:VEVENT
END:VCALENDAR
