BEGIN:VCALENDAR
VERSION:2.0
PRODID:-//AusschreibungsRadar//Timeline//DE
CALSCALE:GREGORIAN
METHOD:PUBLISH
X-WR-CALNAME:Projekt EU-weite Ausschreibung von Metallbauarbeiten (Fenster/Außent
X-WR-TIMEZONE:Europe/Berlin
BEGIN:VEVENT
UID:ca74bd2c300f7d19@ausschreibungsradar.com
DTSTAMP:20260425T143519Z
DTSTART;VALUE=DATE:20260223
DTEND;VALUE=DATE:20260223
SUMMARY:Angebotsfrist — EU-weite Ausschreibung von Metallbauarbeiten (Fenster/Außent
DESCRIPTION:Phase: Ausschreibung | Beschreibung: Angebote werden eingeholt | Link: https://ausschreibungsradar.com/ausschreibung/55e48dcb-89fb-4dba-a203-b8fd835bd8b6/
URL:https://ausschreibungsradar.com/ausschreibung/55e48dcb-89fb-4dba-a203-b8fd835bd8b6/
END:VEVENT
BEGIN:VEVENT
UID:b42c8e8868466a3f@ausschreibungsradar.com
DTSTAMP:20260425T143519Z
DTSTART;VALUE=DATE:20260404
DTEND;VALUE=DATE:20260404
SUMMARY:Ausschreibung — EU-weite Ausschreibung von Metallbauarbeiten (Fenster/Außent
DESCRIPTION:Phase: Ausschreibung | Beschreibung: Offizielle Ausschreibung mit Bieterfrist. | Link: https://ausschreibungsradar.com/ausschreibung/f12bcddb-5191-4610-89ea-6f9715529021/
URL:https://ausschreibungsradar.com/ausschreibung/f12bcddb-5191-4610-89ea-6f9715529021/
END:VEVENT
BEGIN:VEVENT
UID:279f79bea5dda3c8@ausschreibungsradar.com
DTSTAMP:20260425T143519Z
DTSTART;VALUE=DATE:20260422
DTEND;VALUE=DATE:20260422
SUMMARY:Vergabeergebnis — EU-weite Ausschreibung von Metallbauarbeiten (Fenster/Außent
DESCRIPTION:Phase: Vergabeergebnis | Beschreibung: Auftrag wurde zugeschlagen | Link: https://ausschreibungsradar.com/ausschreibung/aa155e75-8f00-4408-a2dc-4ce00d0459cc/ | Auftragnehmer: Heinrich Hellweg GmbH & C
URL:https://ausschreibungsradar.com/ausschreibung/aa155e75-8f00-4408-a2dc-4ce00d0459cc/
END:VEVENT
BEGIN:VEVENT
UID:10bed01ab7a05a22@ausschreibungsradar.com
DTSTAMP:20260425T143519Z
DTSTART;VALUE=DATE:20260422
DTEND;VALUE=DATE:20260422
SUMMARY:Zuschlag — EU-weite Ausschreibung von Metallbauarbeiten (Fenster/Außent
DESCRIPTION:Phase: Zuschlag | Beschreibung: Vergabeergebnis — Auftrag wurde erteilt oder Verfahren beendet. | Link: https://ausschreibungsradar.com/ausschreibung/ted-275780-2026/
URL:https://ausschreibungsradar.com/ausschreibung/ted-275780-2026/
END:VEVENT
END:VCALENDAR
