BEGIN:VCALENDAR
VERSION:2.0
PRODID:-//AusschreibungsRadar//Timeline//DE
CALSCALE:GREGORIAN
METHOD:PUBLISH
X-WR-CALNAME:Projekt BERNATURA - Streuobstkompetenzzentrum Burgbernheim
Schreiner
X-WR-TIMEZONE:Europe/Berlin
BEGIN:VEVENT
UID:2cfe410d8f77a317@ausschreibungsradar.com
DTSTAMP:20260425T162312Z
DTSTART;VALUE=DATE:20240612
DTEND;VALUE=DATE:20240612
SUMMARY:Angebotsfrist — BERNATURA - Streuobstkompetenzzentrum Burgbernheim\nSchreiner
DESCRIPTION:Phase: Ausschreibung | Beschreibung: Angebote werden eingeholt | Link: https://ausschreibungsradar.com/ausschreibung/a00a0bf6-b765-4ac9-a08f-eb872e28dd1f/ | Geschätzter Wert: 85000 €
URL:https://ausschreibungsradar.com/ausschreibung/a00a0bf6-b765-4ac9-a08f-eb872e28dd1f/
END:VEVENT
BEGIN:VEVENT
UID:b348ec011bd7cea9@ausschreibungsradar.com
DTSTAMP:20260425T162312Z
DTSTART;VALUE=DATE:20240712
DTEND;VALUE=DATE:20240712
SUMMARY:Vergabeergebnis — BERNATURA - Streuobstkompetenzzentrum Burgbernheim\nSchreiner
DESCRIPTION:Phase: Vergabeergebnis | Beschreibung: Auftrag wurde zugeschlagen | Link: https://ausschreibungsradar.com/ausschreibung/aa99c0d9-abe5-42fd-bba1-013f020970f3/ | Auftragnehmer: LEBENS(T)RAUM Planung und
URL:https://ausschreibungsradar.com/ausschreibung/aa99c0d9-abe5-42fd-bba1-013f020970f3/
END:VEVENT
BEGIN:VEVENT
UID:76c5fe03bf296632@ausschreibungsradar.com
DTSTAMP:20260425T162312Z
DTSTART;VALUE=DATE:20240715
DTEND;VALUE=DATE:20240715
SUMMARY:Zuschlag — BERNATURA - Streuobstkompetenzzentrum Burgbernheim\nSchreiner
DESCRIPTION:Phase: Zuschlag | Beschreibung: Vergabeergebnis — Auftrag wurde erteilt oder Verfahren beendet. | Link: https://ausschreibungsradar.com/ausschreibung/ted-423074-2024/
URL:https://ausschreibungsradar.com/ausschreibung/ted-423074-2024/
END:VEVENT
BEGIN:VEVENT
UID:eedc85d22b2ee4ca@ausschreibungsradar.com
DTSTAMP:20260425T162312Z
DTSTART;VALUE=DATE:20240729
DTEND;VALUE=DATE:20240729
SUMMARY:Ausschreibung — BERNATURA - Streuobstkompetenzzentrum Burgbernheim\nSchreiner
DESCRIPTION:Phase: Ausschreibung | Beschreibung: Offizielle Ausschreibung mit Bieterfrist. | Link: https://ausschreibungsradar.com/ausschreibung/a6734c15-014d-44ef-a005-c7d6f1016025/
URL:https://ausschreibungsradar.com/ausschreibung/a6734c15-014d-44ef-a005-c7d6f1016025/
END:VEVENT
END:VCALENDAR
