BEGIN:VCALENDAR
VERSION:2.0
PRODID:-//AusschreibungsRadar//Timeline//DE
CALSCALE:GREGORIAN
METHOD:PUBLISH
X-WR-CALNAME:Projekt Wirtschaftsdienste für die NRW.BANK am Standort Münster
X-WR-TIMEZONE:Europe/Berlin
BEGIN:VEVENT
UID:546bc2a6e6af06b5@ausschreibungsradar.com
DTSTAMP:20260424T181137Z
DTSTART;VALUE=DATE:20260313
DTEND;VALUE=DATE:20260313
SUMMARY:Ausschreibung — Wirtschaftsdienste für die NRW.BANK am Standort Münster
DESCRIPTION:Phase: Ausschreibung | Beschreibung: Angebote werden eingeholt | Link: https://ausschreibungsradar.com/ausschreibung/ab2fddde-5ed9-4de3-8471-a71de3e933dd/
URL:https://ausschreibungsradar.com/ausschreibung/ab2fddde-5ed9-4de3-8471-a71de3e933dd/
END:VEVENT
BEGIN:VEVENT
UID:69d1cc2a40022b23@ausschreibungsradar.com
DTSTAMP:20260424T181137Z
DTSTART;VALUE=DATE:20260313
DTEND;VALUE=DATE:20260313
SUMMARY:Ausschreibung — Wirtschaftsdienste für die NRW.BANK am Standort Münster
DESCRIPTION:Phase: Ausschreibung | Beschreibung: Offizielle Ausschreibung mit Bieterfrist. | Link: https://ausschreibungsradar.com/ausschreibung/33800c00-d06f-4094-b21b-49a926b506cd/
URL:https://ausschreibungsradar.com/ausschreibung/33800c00-d06f-4094-b21b-49a926b506cd/
END:VEVENT
BEGIN:VEVENT
UID:02354d308856f670@ausschreibungsradar.com
DTSTAMP:20260424T181137Z
DTSTART;VALUE=DATE:20260313
DTEND;VALUE=DATE:20260313
SUMMARY:Ausschreibung — Wirtschaftsdienste für die NRW.BANK am Standort Münster
DESCRIPTION:Phase: Ausschreibung | Beschreibung: Offizielle Ausschreibung mit Bieterfrist. | Link: https://ausschreibungsradar.com/ausschreibung/c357bc58-d06d-4a4c-95e7-a21d3d50712b/
URL:https://ausschreibungsradar.com/ausschreibung/c357bc58-d06d-4a4c-95e7-a21d3d50712b/
END:VEVENT
BEGIN:VEVENT
UID:1ad4480c3fcd88c1@ausschreibungsradar.com
DTSTAMP:20260424T181137Z
DTSTART;VALUE=DATE:20260313
DTEND;VALUE=DATE:20260313
SUMMARY:Ausschreibung — Wirtschaftsdienste für die NRW.BANK am Standort Münster
DESCRIPTION:Phase: Ausschreibung | Beschreibung: Offizielle Ausschreibung mit Bieterfrist. | Link: https://ausschreibungsradar.com/ausschreibung/912d4bde-64af-4d90-b707-123a7b0d5a9b/
URL:https://ausschreibungsradar.com/ausschreibung/912d4bde-64af-4d90-b707-123a7b0d5a9b/
END:VEVENT
BEGIN:VEVENT
UID:f3d17ffd617d6485@ausschreibungsradar.com
DTSTAMP:20260424T181137Z
DTSTART;VALUE=DATE:20260313
DTEND;VALUE=DATE:20260313
SUMMARY:Ausschreibung — Wirtschaftsdienste für die NRW.BANK am Standort Münster
DESCRIPTION:Phase: Ausschreibung | Beschreibung: Offizielle Ausschreibung mit Bieterfrist. | Link: https://ausschreibungsradar.com/ausschreibung/8667af8e-6a3c-4657-a569-c6ae184f120e/
URL:https://ausschreibungsradar.com/ausschreibung/8667af8e-6a3c-4657-a569-c6ae184f120e/
END:VEVENT
BEGIN:VEVENT
UID:7d2a58b93ea8c2c8@ausschreibungsradar.com
DTSTAMP:20260424T181137Z
DTSTART;VALUE=DATE:20260313
DTEND;VALUE=DATE:20260313
SUMMARY:Ausschreibung — Wirtschaftsdienste für die NRW.BANK am Standort Münster
DESCRIPTION:Phase: Ausschreibung | Beschreibung: Offizielle Ausschreibung mit Bieterfrist. | Link: https://ausschreibungsradar.com/ausschreibung/e289a54d-6afd-4c21-a961-91eb33a5773c/
URL:https://ausschreibungsradar.com/ausschreibung/e289a54d-6afd-4c21-a961-91eb33a5773c/
END:VEVENT
END:VCALENDAR
