BEGIN:VCALENDAR
VERSION:2.0
PRODID:-//AusschreibungsRadar//Timeline//DE
CALSCALE:GREGORIAN
METHOD:PUBLISH
X-WR-CALNAME:Projekt HLS-Fachplanung (§ 55 HOAI) für Neubau Berufsbildungszentrum
X-WR-TIMEZONE:Europe/Berlin
BEGIN:VEVENT
UID:a4bf24da51df2af0@ausschreibungsradar.com
DTSTAMP:20260425T034550Z
DTSTART;VALUE=DATE:20251028
DTEND;VALUE=DATE:20251028
SUMMARY:Ausschreibung — HLS-Fachplanung (§ 55 HOAI) für Neubau Berufsbildungszentrum
DESCRIPTION:Phase: Ausschreibung | Beschreibung: Angebote werden eingeholt | Link: https://ausschreibungsradar.com/ausschreibung/80f2f0b1-dd21-48cf-8c08-a5bd1540fda5/
URL:https://ausschreibungsradar.com/ausschreibung/80f2f0b1-dd21-48cf-8c08-a5bd1540fda5/
END:VEVENT
BEGIN:VEVENT
UID:ebb93c2b0c46b121@ausschreibungsradar.com
DTSTAMP:20260425T034550Z
DTSTART;VALUE=DATE:20260328
DTEND;VALUE=DATE:20260328
SUMMARY:Vergabeergebnis — HLS-Fachplanung (§ 55 HOAI) für Neubau Berufsbildungszentrum
DESCRIPTION:Phase: Vergabeergebnis | Beschreibung: Auftrag wurde zugeschlagen | Link: https://ausschreibungsradar.com/ausschreibung/ab32da66-24c7-4816-b309-cec0ca7a1109/
URL:https://ausschreibungsradar.com/ausschreibung/ab32da66-24c7-4816-b309-cec0ca7a1109/
END:VEVENT
BEGIN:VEVENT
UID:4d67c62067308ea2@ausschreibungsradar.com
DTSTAMP:20260425T034550Z
DTSTART;VALUE=DATE:20260328
DTEND;VALUE=DATE:20260328
SUMMARY:Zuschlag — HLS-Fachplanung (§ 55 HOAI) für Neubau Berufsbildungszentrum
DESCRIPTION:Phase: Zuschlag | Beschreibung: Vergabeergebnis — Auftrag wurde erteilt oder Verfahren beendet. | Link: https://ausschreibungsradar.com/ausschreibung/80e659f6-261d-4289-8b14-94c7752245c3/
URL:https://ausschreibungsradar.com/ausschreibung/80e659f6-261d-4289-8b14-94c7752245c3/
END:VEVENT
END:VCALENDAR
