BEGIN:VCALENDAR
VERSION:2.0
PRODID:-//AusschreibungsRadar//Timeline//DE
CALSCALE:GREGORIAN
METHOD:PUBLISH
X-WR-CALNAME:Projekt Metallbauarbeiten BA 1
X-WR-TIMEZONE:Europe/Berlin
BEGIN:VEVENT
UID:59e7bad9f2f42688@ausschreibungsradar.com
DTSTAMP:20260426T044017Z
DTSTART;VALUE=DATE:20260122
DTEND;VALUE=DATE:20260122
SUMMARY:Angebotsfrist — Metallbauarbeiten BA 1
DESCRIPTION:Phase: Ausschreibung | Beschreibung: Angebote werden eingeholt | Link: https://ausschreibungsradar.com/ausschreibung/ab6ddfdb-52f1-472d-be98-4481f4267671/
URL:https://ausschreibungsradar.com/ausschreibung/ab6ddfdb-52f1-472d-be98-4481f4267671/
END:VEVENT
BEGIN:VEVENT
UID:31dcf032caee1b2e@ausschreibungsradar.com
DTSTAMP:20260426T044017Z
DTSTART;VALUE=DATE:20260410
DTEND;VALUE=DATE:20260410
SUMMARY:Vergabeergebnis — Metallbauarbeiten BA 1
DESCRIPTION:Phase: Vergabeergebnis | Beschreibung: Auftrag wurde zugeschlagen | Link: https://ausschreibungsradar.com/ausschreibung/16a134da-9afb-4d81-99b7-09d629e1d374/ | Auftragnehmer: Metallbau Vollmuth GmbH |
URL:https://ausschreibungsradar.com/ausschreibung/16a134da-9afb-4d81-99b7-09d629e1d374/
END:VEVENT
END:VCALENDAR
