BEGIN:VCALENDAR
VERSION:2.0
PRODID:-//AusschreibungsRadar//Timeline//DE
CALSCALE:GREGORIAN
METHOD:PUBLISH
X-WR-CALNAME:Projekt Offenes Verfahren (EU-weit) zur Vergabe von Gebäudereinigung
X-WR-TIMEZONE:Europe/Berlin
BEGIN:VEVENT
UID:0e49b7c9cdfbf2bc@ausschreibungsradar.com
DTSTAMP:20260425T144428Z
DTSTART;VALUE=DATE:20240404
DTEND;VALUE=DATE:20240404
SUMMARY:Ausschreibung — Offenes Verfahren (EU-weit) zur Vergabe von Gebäudereinigung
DESCRIPTION:Phase: Ausschreibung | Beschreibung: Angebote werden eingeholt | Link: https://ausschreibungsradar.com/ausschreibung/8de17388-e83a-466d-abc3-fe1053e3f0eb/
URL:https://ausschreibungsradar.com/ausschreibung/8de17388-e83a-466d-abc3-fe1053e3f0eb/
END:VEVENT
BEGIN:VEVENT
UID:85f2f94f0259c4a9@ausschreibungsradar.com
DTSTAMP:20260425T144428Z
DTSTART;VALUE=DATE:20240925
DTEND;VALUE=DATE:20240925
SUMMARY:Vergabeergebnis — Offenes Verfahren (EU-weit) zur Vergabe von Gebäudereinigung
DESCRIPTION:Phase: Vergabeergebnis | Beschreibung: Auftrag wurde zugeschlagen | Link: https://ausschreibungsradar.com/ausschreibung/ab98e0b9-29a5-470e-96ea-81d4ce125dc4/
URL:https://ausschreibungsradar.com/ausschreibung/ab98e0b9-29a5-470e-96ea-81d4ce125dc4/
END:VEVENT
BEGIN:VEVENT
UID:9910cadd7557bf74@ausschreibungsradar.com
DTSTAMP:20260425T144428Z
DTSTART;VALUE=DATE:20240925
DTEND;VALUE=DATE:20240925
SUMMARY:Zuschlag — Offenes Verfahren (EU-weit) zur Vergabe von Gebäudereinigung
DESCRIPTION:Phase: Zuschlag | Beschreibung: Vergabeergebnis — Auftrag wurde erteilt oder Verfahren beendet. | Link: https://ausschreibungsradar.com/ausschreibung/88fc4f1e-74d1-454a-9f82-9f67d97ef076/
URL:https://ausschreibungsradar.com/ausschreibung/88fc4f1e-74d1-454a-9f82-9f67d97ef076/
END:VEVENT
BEGIN:VEVENT
UID:529311a738459e49@ausschreibungsradar.com
DTSTAMP:20260425T144428Z
DTSTART;VALUE=DATE:20241016
DTEND;VALUE=DATE:20241016
SUMMARY:Ausschreibung — Offenes Verfahren (EU-weit) zur Vergabe von Gebäudereinigung
DESCRIPTION:Phase: Ausschreibung | Beschreibung: Offizielle Ausschreibung mit Bieterfrist. | Link: https://ausschreibungsradar.com/ausschreibung/da327f33-d995-4e11-b572-85a33bd0cd25/
URL:https://ausschreibungsradar.com/ausschreibung/da327f33-d995-4e11-b572-85a33bd0cd25/
END:VEVENT
END:VCALENDAR
