BEGIN:VCALENDAR
VERSION:2.0
PRODID:-//AusschreibungsRadar//Timeline//DE
CALSCALE:GREGORIAN
METHOD:PUBLISH
X-WR-CALNAME:Projekt Trockenbau
X-WR-TIMEZONE:Europe/Berlin
BEGIN:VEVENT
UID:f03ba909f368f13e@ausschreibungsradar.com
DTSTAMP:20260425T011408Z
DTSTART;VALUE=DATE:20250310
DTEND;VALUE=DATE:20250310
SUMMARY:Angebotsfrist — Trockenbau
DESCRIPTION:Phase: Ausschreibung | Beschreibung: Angebote werden eingeholt | Link: https://ausschreibungsradar.com/ausschreibung/ac14f40d-1585-4ed2-bfa9-9ceac639b9f1/
URL:https://ausschreibungsradar.com/ausschreibung/ac14f40d-1585-4ed2-bfa9-9ceac639b9f1/
END:VEVENT
BEGIN:VEVENT
UID:bdc7ed036f4e9a01@ausschreibungsradar.com
DTSTAMP:20260425T011408Z
DTSTART;VALUE=DATE:20250204
DTEND;VALUE=DATE:20250204
SUMMARY:Ausschreibung — Trockenbau
DESCRIPTION:Phase: Ausschreibung | Beschreibung: Offizielle Ausschreibung mit Bieterfrist. | Link: https://ausschreibungsradar.com/ausschreibung/b0d6a15e-7979-4689-b3fc-d8364c802063/
URL:https://ausschreibungsradar.com/ausschreibung/b0d6a15e-7979-4689-b3fc-d8364c802063/
END:VEVENT
BEGIN:VEVENT
UID:3d6dde3956492ae5@ausschreibungsradar.com
DTSTAMP:20260425T011408Z
DTSTART;VALUE=DATE:20250204
DTEND;VALUE=DATE:20250204
SUMMARY:Ausschreibung — Trockenbau
DESCRIPTION:Phase: Ausschreibung | Beschreibung: Offizielle Ausschreibung mit Bieterfrist. | Link: https://ausschreibungsradar.com/ausschreibung/54daaf4c-2ca5-4f35-978e-cb8861fcf811/
URL:https://ausschreibungsradar.com/ausschreibung/54daaf4c-2ca5-4f35-978e-cb8861fcf811/
END:VEVENT
END:VCALENDAR
