BEGIN:VCALENDAR
VERSION:2.0
PRODID:-//AusschreibungsRadar//Timeline//DE
CALSCALE:GREGORIAN
METHOD:PUBLISH
X-WR-CALNAME:Projekt Heizungsarbeiten - Arkansasstraße
X-WR-TIMEZONE:Europe/Berlin
BEGIN:VEVENT
UID:1b832a4d53babcb4@ausschreibungsradar.com
DTSTAMP:20260425T102656Z
DTSTART;VALUE=DATE:20240813
DTEND;VALUE=DATE:20240813
SUMMARY:Ausschreibung — Heizungsarbeiten - Arkansasstraße
DESCRIPTION:Phase: Ausschreibung | Beschreibung: Angebote werden eingeholt | Link: https://ausschreibungsradar.com/ausschreibung/ac5d78e9-3d48-427c-bd66-a363ad48b6ce/
URL:https://ausschreibungsradar.com/ausschreibung/ac5d78e9-3d48-427c-bd66-a363ad48b6ce/
END:VEVENT
BEGIN:VEVENT
UID:b4113d93aff825f4@ausschreibungsradar.com
DTSTAMP:20260425T102656Z
DTSTART;VALUE=DATE:20241204
DTEND;VALUE=DATE:20241204
SUMMARY:Vergabeergebnis — Heizungsarbeiten - Arkansasstraße
DESCRIPTION:Phase: Vergabeergebnis | Beschreibung: Auftrag wurde zugeschlagen | Link: https://ausschreibungsradar.com/ausschreibung/a632b955-1554-400c-b2ee-18ae899c5044/
URL:https://ausschreibungsradar.com/ausschreibung/a632b955-1554-400c-b2ee-18ae899c5044/
END:VEVENT
END:VCALENDAR
