BEGIN:VCALENDAR
VERSION:2.0
PRODID:-//AusschreibungsRadar//Timeline//DE
CALSCALE:GREGORIAN
METHOD:PUBLISH
X-WR-CALNAME:Projekt Rohbau Werkstatt
X-WR-TIMEZONE:Europe/Berlin
BEGIN:VEVENT
UID:ad9e2da50879f056@ausschreibungsradar.com
DTSTAMP:20260425T133742Z
DTSTART;VALUE=DATE:20241024
DTEND;VALUE=DATE:20241024
SUMMARY:Angebotsfrist — Rohbau Werkstatt
DESCRIPTION:Phase: Ausschreibung | Beschreibung: Angebote werden eingeholt | Link: https://ausschreibungsradar.com/ausschreibung/acaaee5d-9c14-488c-98d1-e0529f0d0a90/
URL:https://ausschreibungsradar.com/ausschreibung/acaaee5d-9c14-488c-98d1-e0529f0d0a90/
END:VEVENT
BEGIN:VEVENT
UID:468d530bcc4a9270@ausschreibungsradar.com
DTSTAMP:20260425T133742Z
DTSTART;VALUE=DATE:20241212
DTEND;VALUE=DATE:20241212
SUMMARY:Vergabeergebnis — Rohbau Werkstatt
DESCRIPTION:Phase: Vergabeergebnis | Beschreibung: Auftrag wurde zugeschlagen | Link: https://ausschreibungsradar.com/ausschreibung/113ea246-5dc5-4c6d-87f8-1b2eb32f5486/ | Geschätzter Wert: 300000 €
URL:https://ausschreibungsradar.com/ausschreibung/113ea246-5dc5-4c6d-87f8-1b2eb32f5486/
END:VEVENT
END:VCALENDAR
