BEGIN:VCALENDAR
VERSION:2.0
PRODID:-//AusschreibungsRadar//Timeline//DE
CALSCALE:GREGORIAN
METHOD:PUBLISH
X-WR-CALNAME:Projekt Cryogenic Production Supervision
X-WR-TIMEZONE:Europe/Berlin
BEGIN:VEVENT
UID:ebe89b7eefc03b38@ausschreibungsradar.com
DTSTAMP:20260426T022143Z
DTSTART;VALUE=DATE:20251015
DTEND;VALUE=DATE:20251015
SUMMARY:Ausschreibung — Cryogenic Production Supervision
DESCRIPTION:Phase: Ausschreibung | Beschreibung: Angebote werden eingeholt | Link: https://ausschreibungsradar.com/ausschreibung/acd8707a-3e0c-4e86-8550-581105422953/
URL:https://ausschreibungsradar.com/ausschreibung/acd8707a-3e0c-4e86-8550-581105422953/
END:VEVENT
BEGIN:VEVENT
UID:8334cee7fdd639c1@ausschreibungsradar.com
DTSTAMP:20260426T022143Z
DTSTART;VALUE=DATE:20251015
DTEND;VALUE=DATE:20251015
SUMMARY:Ausschreibung — Cryogenic Production Supervision
DESCRIPTION:Phase: Ausschreibung | Beschreibung: Offizielle Ausschreibung mit Bieterfrist. | Link: https://ausschreibungsradar.com/ausschreibung/52c65474-ba3f-4544-851a-4acc9b78f7fe/
URL:https://ausschreibungsradar.com/ausschreibung/52c65474-ba3f-4544-851a-4acc9b78f7fe/
END:VEVENT
BEGIN:VEVENT
UID:16b9172ffb5376b7@ausschreibungsradar.com
DTSTAMP:20260426T022143Z
DTSTART;VALUE=DATE:20251015
DTEND;VALUE=DATE:20251015
SUMMARY:Ausschreibung — Cryogenic Production Supervision
DESCRIPTION:Phase: Ausschreibung | Beschreibung: Offizielle Ausschreibung mit Bieterfrist. | Link: https://ausschreibungsradar.com/ausschreibung/16189667-38f0-4a80-a265-e3305758d999/
URL:https://ausschreibungsradar.com/ausschreibung/16189667-38f0-4a80-a265-e3305758d999/
END:VEVENT
END:VCALENDAR
