BEGIN:VCALENDAR
VERSION:2.0
PRODID:-//AusschreibungsRadar//Timeline//DE
CALSCALE:GREGORIAN
METHOD:PUBLISH
X-WR-CALNAME:Projekt Mammographie
X-WR-TIMEZONE:Europe/Berlin
BEGIN:VEVENT
UID:2c523fcdf7b25a5d@ausschreibungsradar.com
DTSTAMP:20260425T162625Z
DTSTART;VALUE=DATE:20250905
DTEND;VALUE=DATE:20250905
SUMMARY:Angebotsfrist — Mammographie
DESCRIPTION:Phase: Ausschreibung | Beschreibung: Angebote werden eingeholt | Link: https://ausschreibungsradar.com/ausschreibung/adb7fe2d-148d-449b-8643-cf556f298e9a/
URL:https://ausschreibungsradar.com/ausschreibung/adb7fe2d-148d-449b-8643-cf556f298e9a/
END:VEVENT
BEGIN:VEVENT
UID:c1266b3b885bba01@ausschreibungsradar.com
DTSTAMP:20260425T162625Z
DTSTART;VALUE=DATE:20251021
DTEND;VALUE=DATE:20251021
SUMMARY:Vergabeergebnis — Mammographie
DESCRIPTION:Phase: Vergabeergebnis | Beschreibung: Auftrag wurde zugeschlagen | Link: https://ausschreibungsradar.com/ausschreibung/c97d6af1-d891-4335-9917-9263c6d2d5fb/ | Geschätzter Wert: 297000 €
URL:https://ausschreibungsradar.com/ausschreibung/c97d6af1-d891-4335-9917-9263c6d2d5fb/
END:VEVENT
END:VCALENDAR
