BEGIN:VCALENDAR
VERSION:2.0
PRODID:-//AusschreibungsRadar//Timeline//DE
CALSCALE:GREGORIAN
METHOD:PUBLISH
X-WR-CALNAME:Projekt Heizung / Neubau Hallenbad in Haren-Ems (Kopie)
X-WR-TIMEZONE:Europe/Berlin
BEGIN:VEVENT
UID:3813a55c47cd8730@ausschreibungsradar.com
DTSTAMP:20260425T112906Z
DTSTART;VALUE=DATE:20240301
DTEND;VALUE=DATE:20240301
SUMMARY:Angebotsfrist — Heizung / Neubau Hallenbad in Haren-Ems (Kopie)
DESCRIPTION:Phase: Ausschreibung | Beschreibung: Angebote werden eingeholt | Link: https://ausschreibungsradar.com/ausschreibung/ade02509-4db6-4595-8b0e-0ae161d0a486/
URL:https://ausschreibungsradar.com/ausschreibung/ade02509-4db6-4595-8b0e-0ae161d0a486/
END:VEVENT
BEGIN:VEVENT
UID:053687152a51cb02@ausschreibungsradar.com
DTSTAMP:20260425T112906Z
DTSTART;VALUE=DATE:20240124
DTEND;VALUE=DATE:20240124
SUMMARY:Ausschreibung — Heizung / Neubau Hallenbad in Haren-Ems (Kopie)
DESCRIPTION:Phase: Ausschreibung | Beschreibung: Offizielle Ausschreibung mit Bieterfrist. | Link: https://ausschreibungsradar.com/ausschreibung/ted-47830-2024/
URL:https://ausschreibungsradar.com/ausschreibung/ted-47830-2024/
END:VEVENT
BEGIN:VEVENT
UID:40877ea8f7114817@ausschreibungsradar.com
DTSTAMP:20260425T112906Z
DTSTART;VALUE=DATE:20240626
DTEND;VALUE=DATE:20240626
SUMMARY:Vergabeergebnis — Heizung / Neubau Hallenbad in Haren-Ems (Kopie)
DESCRIPTION:Phase: Vergabeergebnis | Beschreibung: Auftrag wurde zugeschlagen | Link: https://ausschreibungsradar.com/ausschreibung/c6f422b3-eac1-42ba-bbcd-cf6f4aa87df5/
URL:https://ausschreibungsradar.com/ausschreibung/c6f422b3-eac1-42ba-bbcd-cf6f4aa87df5/
END:VEVENT
END:VCALENDAR
