BEGIN:VCALENDAR
VERSION:2.0
PRODID:-//AusschreibungsRadar//Timeline//DE
CALSCALE:GREGORIAN
METHOD:PUBLISH
X-WR-CALNAME:Projekt Planungsleistungen: Neubau Brandschutz- und Ausbildungszentr
X-WR-TIMEZONE:Europe/Berlin
BEGIN:VEVENT
UID:99d9fbfb18723076@ausschreibungsradar.com
DTSTAMP:20260425T165817Z
DTSTART;VALUE=DATE:20240615
DTEND;VALUE=DATE:20240615
SUMMARY:Ausschreibung — Planungsleistungen: Neubau Brandschutz- und Ausbildungszentr
DESCRIPTION:Phase: Ausschreibung | Beschreibung: Angebote werden eingeholt | Link: https://ausschreibungsradar.com/ausschreibung/ae15e7c9-5c8d-4b90-aae9-033d5d7d7939/
URL:https://ausschreibungsradar.com/ausschreibung/ae15e7c9-5c8d-4b90-aae9-033d5d7d7939/
END:VEVENT
BEGIN:VEVENT
UID:49d7ed23ec939cbc@ausschreibungsradar.com
DTSTAMP:20260425T165817Z
DTSTART;VALUE=DATE:20240617
DTEND;VALUE=DATE:20240617
SUMMARY:Ausschreibung — Planungsleistungen: Neubau Brandschutz- und Ausbildungszentr
DESCRIPTION:Phase: Ausschreibung | Beschreibung: Offizielle Ausschreibung mit Bieterfrist. | Link: https://ausschreibungsradar.com/ausschreibung/ted-355403-2024/
URL:https://ausschreibungsradar.com/ausschreibung/ted-355403-2024/
END:VEVENT
BEGIN:VEVENT
UID:3ac33ac768c9e6fa@ausschreibungsradar.com
DTSTAMP:20260425T165817Z
DTSTART;VALUE=DATE:20241106
DTEND;VALUE=DATE:20241106
SUMMARY:Vergabeergebnis — Planungsleistungen: Neubau Brandschutz- und Ausbildungszentr
DESCRIPTION:Phase: Vergabeergebnis | Beschreibung: Auftrag wurde zugeschlagen | Link: https://ausschreibungsradar.com/ausschreibung/98278b0c-77b9-4d40-bffa-1c8ea38714a0/ | Auftragnehmer: planungsgruppe HGH archit
URL:https://ausschreibungsradar.com/ausschreibung/98278b0c-77b9-4d40-bffa-1c8ea38714a0/
END:VEVENT
END:VCALENDAR
