BEGIN:VCALENDAR
VERSION:2.0
PRODID:-//AusschreibungsRadar//Timeline//DE
CALSCALE:GREGORIAN
METHOD:PUBLISH
X-WR-CALNAME:Projekt Betreuung und Weiterentwicklung der Homepage mein-aokberater
X-WR-TIMEZONE:Europe/Berlin
BEGIN:VEVENT
UID:d55caf5f41a87d6a@ausschreibungsradar.com
DTSTAMP:20260425T162332Z
DTSTART;VALUE=DATE:20240216
DTEND;VALUE=DATE:20240216
SUMMARY:Angebotsfrist — Betreuung und Weiterentwicklung der Homepage mein-aokberater
DESCRIPTION:Phase: Ausschreibung | Beschreibung: Angebote werden eingeholt | Link: https://ausschreibungsradar.com/ausschreibung/ae3f768e-7db5-4a81-8cf4-67186d5351de/ | Geschätzter Wert: 400000 €
URL:https://ausschreibungsradar.com/ausschreibung/ae3f768e-7db5-4a81-8cf4-67186d5351de/
END:VEVENT
BEGIN:VEVENT
UID:52ba9f69e28fa0a8@ausschreibungsradar.com
DTSTAMP:20260425T162332Z
DTSTART;VALUE=DATE:20240117
DTEND;VALUE=DATE:20240117
SUMMARY:Ausschreibung — Betreuung und Weiterentwicklung der Homepage mein-aokberater
DESCRIPTION:Phase: Ausschreibung | Beschreibung: Offizielle Ausschreibung mit Bieterfrist. | Link: https://ausschreibungsradar.com/ausschreibung/ted-32253-2024/
URL:https://ausschreibungsradar.com/ausschreibung/ted-32253-2024/
END:VEVENT
BEGIN:VEVENT
UID:f89f375c40cf466e@ausschreibungsradar.com
DTSTAMP:20260425T162332Z
DTSTART;VALUE=DATE:20240320
DTEND;VALUE=DATE:20240320
SUMMARY:Vergabeergebnis — Betreuung und Weiterentwicklung der Homepage mein-aokberater
DESCRIPTION:Phase: Vergabeergebnis | Beschreibung: Alle Angebote ausgeschlossen | Link: https://ausschreibungsradar.com/ausschreibung/4df4d935-9be0-41ec-a11c-819391f9cb8a/ | Geschätzter Wert: 400000 €
URL:https://ausschreibungsradar.com/ausschreibung/4df4d935-9be0-41ec-a11c-819391f9cb8a/
END:VEVENT
END:VCALENDAR
