BEGIN:VCALENDAR
VERSION:2.0
PRODID:-//AusschreibungsRadar//Timeline//DE
CALSCALE:GREGORIAN
METHOD:PUBLISH
X-WR-CALNAME:Projekt Fenster, Außentüren und Sonnenschutz
X-WR-TIMEZONE:Europe/Berlin
BEGIN:VEVENT
UID:25ed493c406a6e28@ausschreibungsradar.com
DTSTAMP:20260424T233751Z
DTSTART;VALUE=DATE:20260417
DTEND;VALUE=DATE:20260417
SUMMARY:Angebotsfrist — Fenster\, Außentüren und Sonnenschutz
DESCRIPTION:Phase: Ausschreibung | Beschreibung: Angebote werden eingeholt | Link: https://ausschreibungsradar.com/ausschreibung/ae508b04-d379-42be-83df-d43f23011077/
URL:https://ausschreibungsradar.com/ausschreibung/ae508b04-d379-42be-83df-d43f23011077/
END:VEVENT
END:VCALENDAR
