BEGIN:VCALENDAR
VERSION:2.0
PRODID:-//AusschreibungsRadar//Timeline//DE
CALSCALE:GREGORIAN
METHOD:PUBLISH
X-WR-CALNAME:Projekt Rohbauarbeiten
X-WR-TIMEZONE:Europe/Berlin
BEGIN:VEVENT
UID:ebe2bc68acc9b1c5@ausschreibungsradar.com
DTSTAMP:20260425T143556Z
DTSTART;VALUE=DATE:20260415
DTEND;VALUE=DATE:20260415
SUMMARY:Angebotsfrist — Rohbauarbeiten
DESCRIPTION:Phase: Ausschreibung | Beschreibung: Angebote werden eingeholt | Link: https://ausschreibungsradar.com/ausschreibung/aecd4e4b-278b-45f9-a9d1-a1870a5d0161/
URL:https://ausschreibungsradar.com/ausschreibung/aecd4e4b-278b-45f9-a9d1-a1870a5d0161/
END:VEVENT
END:VCALENDAR
