BEGIN:VCALENDAR
VERSION:2.0
PRODID:-//AusschreibungsRadar//Timeline//DE
CALSCALE:GREGORIAN
METHOD:PUBLISH
X-WR-CALNAME:Projekt Um- und Ausbau Betriebsgelände BGL - Schlosserarbeiten
X-WR-TIMEZONE:Europe/Berlin
BEGIN:VEVENT
UID:3747c8ec3cde8343@ausschreibungsradar.com
DTSTAMP:20260425T222244Z
DTSTART;VALUE=DATE:20250401
DTEND;VALUE=DATE:20250401
SUMMARY:Angebotsfrist — Um- und Ausbau Betriebsgelände BGL - Schlosserarbeiten
DESCRIPTION:Phase: Ausschreibung | Beschreibung: Angebote werden eingeholt | Link: https://ausschreibungsradar.com/ausschreibung/aefbb464-cded-431a-8999-818b4b83449a/
URL:https://ausschreibungsradar.com/ausschreibung/aefbb464-cded-431a-8999-818b4b83449a/
END:VEVENT
BEGIN:VEVENT
UID:dab6e4288b15783a@ausschreibungsradar.com
DTSTAMP:20260425T222244Z
DTSTART;VALUE=DATE:20250303
DTEND;VALUE=DATE:20250303
SUMMARY:Zuschlag — Um- und Ausbau Betriebsgelände BGL - Schlosserarbeiten
DESCRIPTION:Phase: Zuschlag | Beschreibung: Vergabeergebnis — Auftrag wurde erteilt oder Verfahren beendet. | Link: https://ausschreibungsradar.com/ausschreibung/de38bf32-6c73-48eb-adf5-6404a8628b18/
URL:https://ausschreibungsradar.com/ausschreibung/de38bf32-6c73-48eb-adf5-6404a8628b18/
END:VEVENT
BEGIN:VEVENT
UID:3170b4b5383d89e7@ausschreibungsradar.com
DTSTAMP:20260425T222244Z
DTSTART;VALUE=DATE:20250423
DTEND;VALUE=DATE:20250423
SUMMARY:Vergabeergebnis — Um- und Ausbau Betriebsgelände BGL - Schlosserarbeiten
DESCRIPTION:Phase: Vergabeergebnis | Beschreibung: Auftrag wurde zugeschlagen | Link: https://ausschreibungsradar.com/ausschreibung/499ce488-0337-42cd-8caf-f568ec3bc1ab/
URL:https://ausschreibungsradar.com/ausschreibung/499ce488-0337-42cd-8caf-f568ec3bc1ab/
END:VEVENT
END:VCALENDAR
