BEGIN:VCALENDAR
VERSION:2.0
PRODID:-//AusschreibungsRadar//Timeline//DE
CALSCALE:GREGORIAN
METHOD:PUBLISH
X-WR-CALNAME:Projekt Offenes Verfahren (EU-weit) zur Vergabe Grünpflege und Grauf
X-WR-TIMEZONE:Europe/Berlin
BEGIN:VEVENT
UID:bf72eca857fcf34b@ausschreibungsradar.com
DTSTAMP:20260425T020527Z
DTSTART;VALUE=DATE:20250707
DTEND;VALUE=DATE:20250707
SUMMARY:Ausschreibung — Offenes Verfahren (EU-weit) zur Vergabe Grünpflege und Grauf
DESCRIPTION:Phase: Ausschreibung | Beschreibung: Offizielle Ausschreibung mit Bieterfrist. | Link: https://ausschreibungsradar.com/ausschreibung/4888d666-6034-4ec1-9896-7695f2fd1597/
URL:https://ausschreibungsradar.com/ausschreibung/4888d666-6034-4ec1-9896-7695f2fd1597/
END:VEVENT
BEGIN:VEVENT
UID:1706ab3ac77b11ed@ausschreibungsradar.com
DTSTAMP:20260425T020527Z
DTSTART;VALUE=DATE:20250717
DTEND;VALUE=DATE:20250717
SUMMARY:Ausschreibung — Offenes Verfahren (EU-weit) zur Vergabe Grünpflege und Grauf
DESCRIPTION:Phase: Ausschreibung | Beschreibung: Angebote werden eingeholt | Link: https://ausschreibungsradar.com/ausschreibung/af5d2d14-46d3-4960-afb4-591e75280267/
URL:https://ausschreibungsradar.com/ausschreibung/af5d2d14-46d3-4960-afb4-591e75280267/
END:VEVENT
BEGIN:VEVENT
UID:1ab1529e5110bc50@ausschreibungsradar.com
DTSTAMP:20260425T020527Z
DTSTART;VALUE=DATE:20251105
DTEND;VALUE=DATE:20251105
SUMMARY:Vergabeergebnis — Offenes Verfahren (EU-weit) zur Vergabe Grünpflege und Grauf
DESCRIPTION:Phase: Vergabeergebnis | Beschreibung: Auftrag wurde zugeschlagen | Link: https://ausschreibungsradar.com/ausschreibung/1313951d-7c2a-4580-af53-297ad2337eb6/
URL:https://ausschreibungsradar.com/ausschreibung/1313951d-7c2a-4580-af53-297ad2337eb6/
END:VEVENT
END:VCALENDAR
