BEGIN:VCALENDAR
VERSION:2.0
PRODID:-//AusschreibungsRadar//Timeline//DE
CALSCALE:GREGORIAN
METHOD:PUBLISH
X-WR-CALNAME:Projekt 34_VE24 (Sportboden+Prallwand)
X-WR-TIMEZONE:Europe/Berlin
BEGIN:VEVENT
UID:0f9c3395457c12e5@ausschreibungsradar.com
DTSTAMP:20260424T120459Z
DTSTART;VALUE=DATE:20250814
DTEND;VALUE=DATE:20250814
SUMMARY:Angebotsfrist — 34_VE24 (Sportboden+Prallwand)
DESCRIPTION:Phase: Ausschreibung | Beschreibung: Angebote werden eingeholt | Link: https://ausschreibungsradar.com/ausschreibung/af73a493-7ed2-4bab-9271-9d7eec27cf99/
URL:https://ausschreibungsradar.com/ausschreibung/af73a493-7ed2-4bab-9271-9d7eec27cf99/
END:VEVENT
BEGIN:VEVENT
UID:fd63bdb1c277af5c@ausschreibungsradar.com
DTSTAMP:20260424T120459Z
DTSTART;VALUE=DATE:20250725
DTEND;VALUE=DATE:20250725
SUMMARY:Vergabeergebnis — 34_VE24 (Sportboden+Prallwand)
DESCRIPTION:Phase: Vergabeergebnis | Beschreibung: Bedarf hat sich geändert | Link: https://ausschreibungsradar.com/ausschreibung/569b2834-2126-4c89-9f68-d2b5e443ba37/
URL:https://ausschreibungsradar.com/ausschreibung/569b2834-2126-4c89-9f68-d2b5e443ba37/
END:VEVENT
END:VCALENDAR
