BEGIN:VCALENDAR
VERSION:2.0
PRODID:-//AusschreibungsRadar//Timeline//DE
CALSCALE:GREGORIAN
METHOD:PUBLISH
X-WR-CALNAME:Projekt 6002772985-BwDLZ Dresden-Schädlingsmonitoring und -bekämpfun
X-WR-TIMEZONE:Europe/Berlin
BEGIN:VEVENT
UID:cee553fb2168e5ab@ausschreibungsradar.com
DTSTAMP:20260424T094952Z
DTSTART;VALUE=DATE:20250116
DTEND;VALUE=DATE:20250116
SUMMARY:Angebotsfrist — 6002772985-BwDLZ Dresden-Schädlingsmonitoring und -bekämpfun
DESCRIPTION:Phase: Ausschreibung | Beschreibung: Angebote werden eingeholt | Link: https://ausschreibungsradar.com/ausschreibung/afa5359c-a3cf-4687-b858-39701aedc490/
URL:https://ausschreibungsradar.com/ausschreibung/afa5359c-a3cf-4687-b858-39701aedc490/
END:VEVENT
END:VCALENDAR
