BEGIN:VCALENDAR
VERSION:2.0
PRODID:-//AusschreibungsRadar//Timeline//DE
CALSCALE:GREGORIAN
METHOD:PUBLISH
X-WR-CALNAME:Projekt Holz- Alu- Verglasungsarbeiten
X-WR-TIMEZONE:Europe/Berlin
BEGIN:VEVENT
UID:a87a220beb5adfd5@ausschreibungsradar.com
DTSTAMP:20260425T134857Z
DTSTART;VALUE=DATE:20250923
DTEND;VALUE=DATE:20250923
SUMMARY:Angebotsfrist — Holz- Alu- Verglasungsarbeiten
DESCRIPTION:Phase: Ausschreibung | Beschreibung: Angebote werden eingeholt | Link: https://ausschreibungsradar.com/ausschreibung/afc1118c-55d8-425c-a620-db227c2f9a1b/
URL:https://ausschreibungsradar.com/ausschreibung/afc1118c-55d8-425c-a620-db227c2f9a1b/
END:VEVENT
BEGIN:VEVENT
UID:5ac89c9048492cf6@ausschreibungsradar.com
DTSTAMP:20260425T134857Z
DTSTART;VALUE=DATE:20251124
DTEND;VALUE=DATE:20251124
SUMMARY:Vergabeergebnis — Holz- Alu- Verglasungsarbeiten
DESCRIPTION:Phase: Vergabeergebnis | Beschreibung: Auftrag wurde zugeschlagen | Link: https://ausschreibungsradar.com/ausschreibung/49af7968-6bdc-4d9a-a6ee-c246bb4bd236/ | Auftragnehmer: Tischlerei HASSMANN
URL:https://ausschreibungsradar.com/ausschreibung/49af7968-6bdc-4d9a-a6ee-c246bb4bd236/
END:VEVENT
END:VCALENDAR
