BEGIN:VCALENDAR
VERSION:2.0
PRODID:-//AusschreibungsRadar//Timeline//DE
CALSCALE:GREGORIAN
METHOD:PUBLISH
X-WR-CALNAME:Projekt BUND-Umwelthaus Fassadenarbeiten 1.BA
X-WR-TIMEZONE:Europe/Berlin
BEGIN:VEVENT
UID:1bea7f1f1d391cfd@ausschreibungsradar.com
DTSTAMP:20260425T205345Z
DTSTART;VALUE=DATE:20250630
DTEND;VALUE=DATE:20250630
SUMMARY:Angebotsfrist — BUND-Umwelthaus Fassadenarbeiten 1.BA
DESCRIPTION:Phase: Ausschreibung | Beschreibung: Angebote werden eingeholt | Link: https://ausschreibungsradar.com/ausschreibung/afc7bc9d-2892-43e2-9adb-19909748b3b3/
URL:https://ausschreibungsradar.com/ausschreibung/afc7bc9d-2892-43e2-9adb-19909748b3b3/
END:VEVENT
END:VCALENDAR
