BEGIN:VCALENDAR
VERSION:2.0
PRODID:-//AusschreibungsRadar//Timeline//DE
CALSCALE:GREGORIAN
METHOD:PUBLISH
X-WR-CALNAME:Projekt Trägerschaft für den Naturkindergarten der Stadt Singen
X-WR-TIMEZONE:Europe/Berlin
BEGIN:VEVENT
UID:d83a7c4287d7c6c7@ausschreibungsradar.com
DTSTAMP:20260425T194047Z
DTSTART;VALUE=DATE:20240507
DTEND;VALUE=DATE:20240507
SUMMARY:Angebotsfrist — Trägerschaft für den Naturkindergarten der Stadt Singen
DESCRIPTION:Phase: Ausschreibung | Beschreibung: Angebote werden eingeholt | Link: https://ausschreibungsradar.com/ausschreibung/afffaa9d-cfd2-474c-8374-f4fdb19a544b/
URL:https://ausschreibungsradar.com/ausschreibung/afffaa9d-cfd2-474c-8374-f4fdb19a544b/
END:VEVENT
BEGIN:VEVENT
UID:428c7bb4a6c221aa@ausschreibungsradar.com
DTSTAMP:20260425T194047Z
DTSTART;VALUE=DATE:20240313
DTEND;VALUE=DATE:20240313
SUMMARY:Ausschreibung — Trägerschaft für den Naturkindergarten der Stadt Singen
DESCRIPTION:Phase: Ausschreibung | Beschreibung: Offizielle Ausschreibung mit Bieterfrist. | Link: https://ausschreibungsradar.com/ausschreibung/a1764e96-6a5a-41f7-a916-b0dc90586d78/
URL:https://ausschreibungsradar.com/ausschreibung/a1764e96-6a5a-41f7-a916-b0dc90586d78/
END:VEVENT
BEGIN:VEVENT
UID:e846749eb2380d02@ausschreibungsradar.com
DTSTAMP:20260425T194047Z
DTSTART;VALUE=DATE:20240319
DTEND;VALUE=DATE:20240319
SUMMARY:Ausschreibung — Trägerschaft für den Naturkindergarten der Stadt Singen
DESCRIPTION:Phase: Ausschreibung | Beschreibung: Offizielle Ausschreibung mit Bieterfrist. | Link: https://ausschreibungsradar.com/ausschreibung/ted-165628-2024/
URL:https://ausschreibungsradar.com/ausschreibung/ted-165628-2024/
END:VEVENT
BEGIN:VEVENT
UID:5000c2ef4bb1c872@ausschreibungsradar.com
DTSTAMP:20260425T194047Z
DTSTART;VALUE=DATE:20240619
DTEND;VALUE=DATE:20240619
SUMMARY:Vergabeergebnis — Trägerschaft für den Naturkindergarten der Stadt Singen
DESCRIPTION:Phase: Vergabeergebnis | Beschreibung: Auftrag wurde zugeschlagen | Link: https://ausschreibungsradar.com/ausschreibung/21d1f95a-3345-46ee-a132-a086b2394c4a/
URL:https://ausschreibungsradar.com/ausschreibung/21d1f95a-3345-46ee-a132-a086b2394c4a/
END:VEVENT
END:VCALENDAR
