BEGIN:VCALENDAR
VERSION:2.0
PRODID:-//AusschreibungsRadar//Timeline//DE
CALSCALE:GREGORIAN
METHOD:PUBLISH
X-WR-CALNAME:Projekt Neubau Kultur- und Sporthalle - Trockenbauarbeiten (Abhangde
X-WR-TIMEZONE:Europe/Berlin
BEGIN:VEVENT
UID:85313b958bedd4e7@ausschreibungsradar.com
DTSTAMP:20260425T144135Z
DTSTART;VALUE=DATE:20240916
DTEND;VALUE=DATE:20240916
SUMMARY:Angebotsfrist — Neubau Kultur- und Sporthalle - Trockenbauarbeiten (Abhangde
DESCRIPTION:Phase: Ausschreibung | Beschreibung: Angebote werden eingeholt | Link: https://ausschreibungsradar.com/ausschreibung/ee51fd26-cd97-4d51-964a-8e99646cdb71/
URL:https://ausschreibungsradar.com/ausschreibung/ee51fd26-cd97-4d51-964a-8e99646cdb71/
END:VEVENT
BEGIN:VEVENT
UID:baeb0e67ed120147@ausschreibungsradar.com
DTSTAMP:20260425T144135Z
DTSTART;VALUE=DATE:20241105
DTEND;VALUE=DATE:20241105
SUMMARY:Zuschlag — Neubau Kultur- und Sporthalle - Trockenbauarbeiten (Abhangde
DESCRIPTION:Phase: Zuschlag | Beschreibung: Vergabeergebnis — Auftrag wurde erteilt oder Verfahren beendet. | Link: https://ausschreibungsradar.com/ausschreibung/2ce07665-56f7-4d6a-bab6-41eae0641f1d/
URL:https://ausschreibungsradar.com/ausschreibung/2ce07665-56f7-4d6a-bab6-41eae0641f1d/
END:VEVENT
BEGIN:VEVENT
UID:53d01d098c366c89@ausschreibungsradar.com
DTSTAMP:20260425T144135Z
DTSTART;VALUE=DATE:20241121
DTEND;VALUE=DATE:20241121
SUMMARY:Vergabeergebnis — Neubau Kultur- und Sporthalle - Trockenbauarbeiten (Abhangde
DESCRIPTION:Phase: Vergabeergebnis | Beschreibung: Auftrag wurde zugeschlagen | Link: https://ausschreibungsradar.com/ausschreibung/b05ff8ba-cbb1-4b9f-b21a-5ad0000ec8e3/
URL:https://ausschreibungsradar.com/ausschreibung/b05ff8ba-cbb1-4b9f-b21a-5ad0000ec8e3/
END:VEVENT
END:VCALENDAR
