BEGIN:VCALENDAR
VERSION:2.0
PRODID:-//AusschreibungsRadar//Timeline//DE
CALSCALE:GREGORIAN
METHOD:PUBLISH
X-WR-CALNAME:Projekt Neubau der Kindertagesstätte Wenighösbach - HLS
X-WR-TIMEZONE:Europe/Berlin
BEGIN:VEVENT
UID:8efbbc3540ff6529@ausschreibungsradar.com
DTSTAMP:20260424T124905Z
DTSTART;VALUE=DATE:20241128
DTEND;VALUE=DATE:20241128
SUMMARY:Ausschreibung — Neubau der Kindertagesstätte Wenighösbach - HLS
DESCRIPTION:Phase: Ausschreibung | Beschreibung: Angebote werden eingeholt | Link: https://ausschreibungsradar.com/ausschreibung/05727509-4f3b-481b-9d59-d304eaf84eb9/
URL:https://ausschreibungsradar.com/ausschreibung/05727509-4f3b-481b-9d59-d304eaf84eb9/
END:VEVENT
BEGIN:VEVENT
UID:e8cf72e0906bc4fb@ausschreibungsradar.com
DTSTAMP:20260424T124905Z
DTSTART;VALUE=DATE:20250610
DTEND;VALUE=DATE:20250610
SUMMARY:Zuschlag — Neubau der Kindertagesstätte Wenighösbach - HLS
DESCRIPTION:Phase: Zuschlag | Beschreibung: Vergabeergebnis — Auftrag wurde erteilt oder Verfahren beendet. | Link: https://ausschreibungsradar.com/ausschreibung/e7fb8e47-b461-457f-8648-e2e49961ca32/
URL:https://ausschreibungsradar.com/ausschreibung/e7fb8e47-b461-457f-8648-e2e49961ca32/
END:VEVENT
BEGIN:VEVENT
UID:fd41776823797061@ausschreibungsradar.com
DTSTAMP:20260424T124905Z
DTSTART;VALUE=DATE:20250611
DTEND;VALUE=DATE:20250611
SUMMARY:Vergabeergebnis — Neubau der Kindertagesstätte Wenighösbach - HLS
DESCRIPTION:Phase: Vergabeergebnis | Beschreibung: Auftrag wurde zugeschlagen | Link: https://ausschreibungsradar.com/ausschreibung/b09018e7-a7c9-4c9b-8401-89f17943e4ff/
URL:https://ausschreibungsradar.com/ausschreibung/b09018e7-a7c9-4c9b-8401-89f17943e4ff/
END:VEVENT
BEGIN:VEVENT
UID:8f4bc4d7760b7f10@ausschreibungsradar.com
DTSTAMP:20260424T124905Z
DTSTART;VALUE=DATE:20250611
DTEND;VALUE=DATE:20250611
SUMMARY:Zuschlag — Neubau der Kindertagesstätte Wenighösbach - HLS
DESCRIPTION:Phase: Zuschlag | Beschreibung: Vergabeergebnis — Auftrag wurde erteilt oder Verfahren beendet. | Link: https://ausschreibungsradar.com/ausschreibung/d45ef795-e52b-419a-8e74-82bd76daa19e/
URL:https://ausschreibungsradar.com/ausschreibung/d45ef795-e52b-419a-8e74-82bd76daa19e/
END:VEVENT
END:VCALENDAR
