BEGIN:VCALENDAR
VERSION:2.0
PRODID:-//AusschreibungsRadar//Timeline//DE
CALSCALE:GREGORIAN
METHOD:PUBLISH
X-WR-CALNAME:Projekt REZ NORD 45ind JC Gifhorn
X-WR-TIMEZONE:Europe/Berlin
BEGIN:VEVENT
UID:df86b52cc845316f@ausschreibungsradar.com
DTSTAMP:20260426T005003Z
DTSTART;VALUE=DATE:20251029
DTEND;VALUE=DATE:20251029
SUMMARY:Ausschreibung — REZ NORD 45ind JC Gifhorn
DESCRIPTION:Phase: Ausschreibung | Beschreibung: Angebote werden eingeholt | Link: https://ausschreibungsradar.com/ausschreibung/acb85b49-40fc-4bbc-9cfb-8d0420b44283/
URL:https://ausschreibungsradar.com/ausschreibung/acb85b49-40fc-4bbc-9cfb-8d0420b44283/
END:VEVENT
BEGIN:VEVENT
UID:4946682aba16d2cd@ausschreibungsradar.com
DTSTAMP:20260426T005003Z
DTSTART;VALUE=DATE:20260127
DTEND;VALUE=DATE:20260127
SUMMARY:Vergabeergebnis — REZ NORD 45ind JC Gifhorn
DESCRIPTION:Phase: Vergabeergebnis | Beschreibung: Auftrag wurde zugeschlagen | Link: https://ausschreibungsradar.com/ausschreibung/b0ba801e-a6a5-429c-ba5b-850d58379ce0/
URL:https://ausschreibungsradar.com/ausschreibung/b0ba801e-a6a5-429c-ba5b-850d58379ce0/
END:VEVENT
END:VCALENDAR
