BEGIN:VCALENDAR
VERSION:2.0
PRODID:-//AusschreibungsRadar//Timeline//DE
CALSCALE:GREGORIAN
METHOD:PUBLISH
X-WR-CALNAME:Projekt Neubau Kindertagesstätte, Im Brühl 26, Abdichtungs- und Dach
X-WR-TIMEZONE:Europe/Berlin
BEGIN:VEVENT
UID:0e5b17cb241ea5fd@ausschreibungsradar.com
DTSTAMP:20260424T074317Z
DTSTART;VALUE=DATE:20240214
DTEND;VALUE=DATE:20240214
SUMMARY:Ausschreibung — Neubau Kindertagesstätte\, Im Brühl 26\, Abdichtungs- und Dach
DESCRIPTION:Phase: Ausschreibung | Beschreibung: Offizielle Ausschreibung mit Bieterfrist. | Link: https://ausschreibungsradar.com/ausschreibung/0b548e28-1aee-4195-886d-97516f0a2adc/
URL:https://ausschreibungsradar.com/ausschreibung/0b548e28-1aee-4195-886d-97516f0a2adc/
END:VEVENT
BEGIN:VEVENT
UID:1c269ff1f41ed471@ausschreibungsradar.com
DTSTAMP:20260424T074317Z
DTSTART;VALUE=DATE:20240417
DTEND;VALUE=DATE:20240417
SUMMARY:Angebotsfrist — Neubau Kindertagesstätte\, Im Brühl 26\, Abdichtungs- und Dach
DESCRIPTION:Phase: Ausschreibung | Beschreibung: Angebote werden eingeholt | Link: https://ausschreibungsradar.com/ausschreibung/b0c5be6d-e612-4925-b3e8-cfb6bd76eb40/
URL:https://ausschreibungsradar.com/ausschreibung/b0c5be6d-e612-4925-b3e8-cfb6bd76eb40/
END:VEVENT
BEGIN:VEVENT
UID:166bb0fa2561700c@ausschreibungsradar.com
DTSTAMP:20260424T074317Z
DTSTART;VALUE=DATE:20240312
DTEND;VALUE=DATE:20240312
SUMMARY:Ausschreibung — Neubau Kindertagesstätte\, Im Brühl 26\, Abdichtungs- und Dach
DESCRIPTION:Phase: Ausschreibung | Beschreibung: Offizielle Ausschreibung mit Bieterfrist. | Link: https://ausschreibungsradar.com/ausschreibung/1e8bef03-cb1b-4d70-a93b-1aa4f003f46c/
URL:https://ausschreibungsradar.com/ausschreibung/1e8bef03-cb1b-4d70-a93b-1aa4f003f46c/
END:VEVENT
BEGIN:VEVENT
UID:dabcc871bbc3782d@ausschreibungsradar.com
DTSTAMP:20260424T074317Z
DTSTART;VALUE=DATE:20240312
DTEND;VALUE=DATE:20240312
SUMMARY:Ausschreibung — Neubau Kindertagesstätte\, Im Brühl 26\, Abdichtungs- und Dach
DESCRIPTION:Phase: Ausschreibung | Beschreibung: Offizielle Ausschreibung mit Bieterfrist. | Link: https://ausschreibungsradar.com/ausschreibung/fbc40a79-2219-4585-9453-8732204fa55c/
URL:https://ausschreibungsradar.com/ausschreibung/fbc40a79-2219-4585-9453-8732204fa55c/
END:VEVENT
BEGIN:VEVENT
UID:675f055b8a2da95f@ausschreibungsradar.com
DTSTAMP:20260424T074317Z
DTSTART;VALUE=DATE:20240320
DTEND;VALUE=DATE:20240320
SUMMARY:Zuschlag — Neubau Kindertagesstätte\, Im Brühl 26\, Abdichtungs- und Dach
DESCRIPTION:Phase: Zuschlag | Beschreibung: Vergabeergebnis — Auftrag wurde erteilt oder Verfahren beendet. | Link: https://ausschreibungsradar.com/ausschreibung/b284e824-afc2-4296-ae92-61b0a4b5d58c/
URL:https://ausschreibungsradar.com/ausschreibung/b284e824-afc2-4296-ae92-61b0a4b5d58c/
END:VEVENT
BEGIN:VEVENT
UID:cf28ad577a4231dc@ausschreibungsradar.com
DTSTAMP:20260424T074317Z
DTSTART;VALUE=DATE:20240515
DTEND;VALUE=DATE:20240515
SUMMARY:Vergabeergebnis — Neubau Kindertagesstätte\, Im Brühl 26\, Abdichtungs- und Dach
DESCRIPTION:Phase: Vergabeergebnis | Beschreibung: Auftrag wurde zugeschlagen | Link: https://ausschreibungsradar.com/ausschreibung/7d1d3d13-257a-422d-9ef9-49b2ed5dd94e/
URL:https://ausschreibungsradar.com/ausschreibung/7d1d3d13-257a-422d-9ef9-49b2ed5dd94e/
END:VEVENT
END:VCALENDAR
