BEGIN:VCALENDAR
VERSION:2.0
PRODID:-//AusschreibungsRadar//Timeline//DE
CALSCALE:GREGORIAN
METHOD:PUBLISH
X-WR-CALNAME:Projekt Fraunhofer IEG Cottbus - 70-00002-3840-C Fachplanung Tragwer
X-WR-TIMEZONE:Europe/Berlin
BEGIN:VEVENT
UID:10191bd184452d61@ausschreibungsradar.com
DTSTAMP:20260424T121016Z
DTSTART;VALUE=DATE:20250321
DTEND;VALUE=DATE:20250321
SUMMARY:Ausschreibung — Fraunhofer IEG Cottbus - 70-00002-3840-C Fachplanung Tragwer
DESCRIPTION:Phase: Ausschreibung | Beschreibung: Offizielle Ausschreibung mit Bieterfrist. | Link: https://ausschreibungsradar.com/ausschreibung/f87002e6-0995-4948-a0d2-bfd9f6a003ba/
URL:https://ausschreibungsradar.com/ausschreibung/f87002e6-0995-4948-a0d2-bfd9f6a003ba/
END:VEVENT
BEGIN:VEVENT
UID:de100e30408eea0d@ausschreibungsradar.com
DTSTAMP:20260424T121016Z
DTSTART;VALUE=DATE:20250603
DTEND;VALUE=DATE:20250603
SUMMARY:Angebotsfrist — Fraunhofer IEG Cottbus - 70-00002-3840-C Fachplanung Tragwer
DESCRIPTION:Phase: Ausschreibung | Beschreibung: Angebote werden eingeholt | Link: https://ausschreibungsradar.com/ausschreibung/b0f4b27d-2dc1-48da-9588-9b9e42f773a8/ | Geschätzter Wert: 270000 €
URL:https://ausschreibungsradar.com/ausschreibung/b0f4b27d-2dc1-48da-9588-9b9e42f773a8/
END:VEVENT
BEGIN:VEVENT
UID:6c60ba6ab7d5ae4f@ausschreibungsradar.com
DTSTAMP:20260424T121016Z
DTSTART;VALUE=DATE:20250416
DTEND;VALUE=DATE:20250416
SUMMARY:Ausschreibung — Fraunhofer IEG Cottbus - 70-00002-3840-C Fachplanung Tragwer
DESCRIPTION:Phase: Ausschreibung | Beschreibung: Offizielle Ausschreibung mit Bieterfrist. | Link: https://ausschreibungsradar.com/ausschreibung/ec66fc2d-f161-4540-8a18-07d3e149bc68/
URL:https://ausschreibungsradar.com/ausschreibung/ec66fc2d-f161-4540-8a18-07d3e149bc68/
END:VEVENT
BEGIN:VEVENT
UID:23e7498fe9fc75a5@ausschreibungsradar.com
DTSTAMP:20260424T121016Z
DTSTART;VALUE=DATE:20250416
DTEND;VALUE=DATE:20250416
SUMMARY:Ausschreibung — Fraunhofer IEG Cottbus - 70-00002-3840-C Fachplanung Tragwer
DESCRIPTION:Phase: Ausschreibung | Beschreibung: Offizielle Ausschreibung mit Bieterfrist. | Link: https://ausschreibungsradar.com/ausschreibung/a53b79da-1f5e-4119-bc01-248396da0635/
URL:https://ausschreibungsradar.com/ausschreibung/a53b79da-1f5e-4119-bc01-248396da0635/
END:VEVENT
BEGIN:VEVENT
UID:0ccc729c17e5ee17@ausschreibungsradar.com
DTSTAMP:20260424T121016Z
DTSTART;VALUE=DATE:20250515
DTEND;VALUE=DATE:20250515
SUMMARY:Ausschreibung — Fraunhofer IEG Cottbus - 70-00002-3840-C Fachplanung Tragwer
DESCRIPTION:Phase: Ausschreibung | Beschreibung: Offizielle Ausschreibung mit Bieterfrist. | Link: https://ausschreibungsradar.com/ausschreibung/941ee16f-a12c-4cb6-8fe5-44771b1a69d1/
URL:https://ausschreibungsradar.com/ausschreibung/941ee16f-a12c-4cb6-8fe5-44771b1a69d1/
END:VEVENT
BEGIN:VEVENT
UID:730e9666dfd9dbec@ausschreibungsradar.com
DTSTAMP:20260424T121016Z
DTSTART;VALUE=DATE:20250515
DTEND;VALUE=DATE:20250515
SUMMARY:Ausschreibung — Fraunhofer IEG Cottbus - 70-00002-3840-C Fachplanung Tragwer
DESCRIPTION:Phase: Ausschreibung | Beschreibung: Offizielle Ausschreibung mit Bieterfrist. | Link: https://ausschreibungsradar.com/ausschreibung/632bcf15-fc06-429b-92ac-cf0feafcc419/
URL:https://ausschreibungsradar.com/ausschreibung/632bcf15-fc06-429b-92ac-cf0feafcc419/
END:VEVENT
END:VCALENDAR
