BEGIN:VCALENDAR
VERSION:2.0
PRODID:-//AusschreibungsRadar//Timeline//DE
CALSCALE:GREGORIAN
METHOD:PUBLISH
X-WR-CALNAME:Projekt Stadt Aulendorf: Erweiterung Grundschule Aulendorf, Schreine
X-WR-TIMEZONE:Europe/Berlin
BEGIN:VEVENT
UID:d63082bd64711c8e@ausschreibungsradar.com
DTSTAMP:20260425T184725Z
DTSTART;VALUE=DATE:20240826
DTEND;VALUE=DATE:20240826
SUMMARY:Angebotsfrist — Stadt Aulendorf: Erweiterung Grundschule Aulendorf\, Schreine
DESCRIPTION:Phase: Ausschreibung | Beschreibung: Angebote werden eingeholt | Link: https://ausschreibungsradar.com/ausschreibung/5db8d433-dd96-4856-8aaa-17eeb1ba194c/
URL:https://ausschreibungsradar.com/ausschreibung/5db8d433-dd96-4856-8aaa-17eeb1ba194c/
END:VEVENT
BEGIN:VEVENT
UID:14accad9f879aeac@ausschreibungsradar.com
DTSTAMP:20260425T184725Z
DTSTART;VALUE=DATE:20241018
DTEND;VALUE=DATE:20241018
SUMMARY:Vergabeergebnis — Stadt Aulendorf: Erweiterung Grundschule Aulendorf\, Schreine
DESCRIPTION:Phase: Vergabeergebnis | Beschreibung: Auftrag wurde zugeschlagen | Link: https://ausschreibungsradar.com/ausschreibung/b16a1283-74d6-4d38-80d6-bc196e79da65/
URL:https://ausschreibungsradar.com/ausschreibung/b16a1283-74d6-4d38-80d6-bc196e79da65/
END:VEVENT
BEGIN:VEVENT
UID:04346132e0bdda20@ausschreibungsradar.com
DTSTAMP:20260425T184725Z
DTSTART;VALUE=DATE:20241018
DTEND;VALUE=DATE:20241018
SUMMARY:Zuschlag — Stadt Aulendorf: Erweiterung Grundschule Aulendorf\, Schreine
DESCRIPTION:Phase: Zuschlag | Beschreibung: Vergabeergebnis — Auftrag wurde erteilt oder Verfahren beendet. | Link: https://ausschreibungsradar.com/ausschreibung/8fc4c0c7-a778-447f-a65e-3363b8fb137d/
URL:https://ausschreibungsradar.com/ausschreibung/8fc4c0c7-a778-447f-a65e-3363b8fb137d/
END:VEVENT
END:VCALENDAR
