BEGIN:VCALENDAR
VERSION:2.0
PRODID:-//AusschreibungsRadar//Timeline//DE
CALSCALE:GREGORIAN
METHOD:PUBLISH
X-WR-CALNAME:Projekt Lieferung von Mittagessen für zwei Kindertageseinrichtungen
X-WR-TIMEZONE:Europe/Berlin
BEGIN:VEVENT
UID:45549b552c3518ea@ausschreibungsradar.com
DTSTAMP:20260425T215457Z
DTSTART;VALUE=DATE:20250217
DTEND;VALUE=DATE:20250217
SUMMARY:Angebotsfrist — Lieferung von Mittagessen für zwei Kindertageseinrichtungen
DESCRIPTION:Phase: Ausschreibung | Beschreibung: Angebote werden eingeholt | Link: https://ausschreibungsradar.com/ausschreibung/b1e09fee-5e5c-45af-b995-44474e84e346/
URL:https://ausschreibungsradar.com/ausschreibung/b1e09fee-5e5c-45af-b995-44474e84e346/
END:VEVENT
BEGIN:VEVENT
UID:a184ac30fb6526bc@ausschreibungsradar.com
DTSTAMP:20260425T215457Z
DTSTART;VALUE=DATE:20250331
DTEND;VALUE=DATE:20250331
SUMMARY:Vergabeergebnis — Lieferung von Mittagessen für zwei Kindertageseinrichtungen
DESCRIPTION:Phase: Vergabeergebnis | Beschreibung: Auftrag wurde zugeschlagen | Link: https://ausschreibungsradar.com/ausschreibung/515b2078-3574-4d00-a5e2-fcd783311c8d/ | Auftragnehmer: Kantine12 Gmbh | Geschätz
URL:https://ausschreibungsradar.com/ausschreibung/515b2078-3574-4d00-a5e2-fcd783311c8d/
END:VEVENT
END:VCALENDAR
