BEGIN:VCALENDAR
VERSION:2.0
PRODID:-//AusschreibungsRadar//Timeline//DE
CALSCALE:GREGORIAN
METHOD:PUBLISH
X-WR-CALNAME:Projekt Beförderung von SchülerInnen im Bereich der Stadt Peine für 
X-WR-TIMEZONE:Europe/Berlin
BEGIN:VEVENT
UID:b614e0a41133fb24@ausschreibungsradar.com
DTSTAMP:20260423T232510Z
DTSTART;VALUE=DATE:20250415
DTEND;VALUE=DATE:20250415
SUMMARY:Angebotsfrist — Beförderung von SchülerInnen im Bereich der Stadt Peine für 
DESCRIPTION:Phase: Ausschreibung | Beschreibung: Angebote werden eingeholt | Link: https://ausschreibungsradar.com/ausschreibung/d8fa52eb-09e9-48d2-beae-c3ca85b9f256/
URL:https://ausschreibungsradar.com/ausschreibung/d8fa52eb-09e9-48d2-beae-c3ca85b9f256/
END:VEVENT
BEGIN:VEVENT
UID:ab82b11708ef8b98@ausschreibungsradar.com
DTSTAMP:20260423T232510Z
DTSTART;VALUE=DATE:20250615
DTEND;VALUE=DATE:20250615
SUMMARY:Vergabeergebnis — Beförderung von SchülerInnen im Bereich der Stadt Peine für 
DESCRIPTION:Phase: Vergabeergebnis | Beschreibung: Auftrag wurde zugeschlagen | Link: https://ausschreibungsradar.com/ausschreibung/b1f45f9b-9cc1-414f-af72-c308db91ce99/
URL:https://ausschreibungsradar.com/ausschreibung/b1f45f9b-9cc1-414f-af72-c308db91ce99/
END:VEVENT
END:VCALENDAR
