BEGIN:VCALENDAR
VERSION:2.0
PRODID:-//AusschreibungsRadar//Timeline//DE
CALSCALE:GREGORIAN
METHOD:PUBLISH
X-WR-CALNAME:Projekt Tief,- Straßen,- Kanal,- und Galabau für den Neubau des Betr
X-WR-TIMEZONE:Europe/Berlin
BEGIN:VEVENT
UID:c04306cd79c00e41@ausschreibungsradar.com
DTSTAMP:20260425T130247Z
DTSTART;VALUE=DATE:20250530
DTEND;VALUE=DATE:20250530
SUMMARY:Angebotsfrist — Tief\,- Straßen\,- Kanal\,- und Galabau für den Neubau des Betr
DESCRIPTION:Phase: Ausschreibung | Beschreibung: Angebote werden eingeholt | Link: https://ausschreibungsradar.com/ausschreibung/0c1a9837-3e19-44c0-9ba6-007eb8144089/
URL:https://ausschreibungsradar.com/ausschreibung/0c1a9837-3e19-44c0-9ba6-007eb8144089/
END:VEVENT
BEGIN:VEVENT
UID:75a3f4e93175c547@ausschreibungsradar.com
DTSTAMP:20260425T130247Z
DTSTART;VALUE=DATE:20250722
DTEND;VALUE=DATE:20250722
SUMMARY:Vergabeergebnis — Tief\,- Straßen\,- Kanal\,- und Galabau für den Neubau des Betr
DESCRIPTION:Phase: Vergabeergebnis | Beschreibung: Auftrag wurde zugeschlagen | Link: https://ausschreibungsradar.com/ausschreibung/b25ced11-1f32-492f-8dc6-0cfba39ee5a3/
URL:https://ausschreibungsradar.com/ausschreibung/b25ced11-1f32-492f-8dc6-0cfba39ee5a3/
END:VEVENT
END:VCALENDAR
