BEGIN:VCALENDAR
VERSION:2.0
PRODID:-//AusschreibungsRadar//Timeline//DE
CALSCALE:GREGORIAN
METHOD:PUBLISH
X-WR-CALNAME:Projekt Generalsanierung Hohenstaufen Gymnasium - Lüftungsinstallati
X-WR-TIMEZONE:Europe/Berlin
BEGIN:VEVENT
UID:ee56a69279d108cd@ausschreibungsradar.com
DTSTAMP:20260424T155000Z
DTSTART;VALUE=DATE:20240902
DTEND;VALUE=DATE:20240902
SUMMARY:Angebotsfrist — Generalsanierung Hohenstaufen Gymnasium - Lüftungsinstallati
DESCRIPTION:Phase: Ausschreibung | Beschreibung: Angebote werden eingeholt | Link: https://ausschreibungsradar.com/ausschreibung/b31bd915-d02f-4ec7-b974-e1a4b9e75526/
URL:https://ausschreibungsradar.com/ausschreibung/b31bd915-d02f-4ec7-b974-e1a4b9e75526/
END:VEVENT
BEGIN:VEVENT
UID:cfea5efbdd584b30@ausschreibungsradar.com
DTSTAMP:20260424T155000Z
DTSTART;VALUE=DATE:20240802
DTEND;VALUE=DATE:20240802
SUMMARY:Ausschreibung — Generalsanierung Hohenstaufen Gymnasium - Lüftungsinstallati
DESCRIPTION:Phase: Ausschreibung | Beschreibung: Offizielle Ausschreibung mit Bieterfrist. | Link: https://ausschreibungsradar.com/ausschreibung/5001ed57-62df-484e-8164-079153b297aa/
URL:https://ausschreibungsradar.com/ausschreibung/5001ed57-62df-484e-8164-079153b297aa/
END:VEVENT
BEGIN:VEVENT
UID:ae8fa5f07e9d38a4@ausschreibungsradar.com
DTSTAMP:20260424T155000Z
DTSTART;VALUE=DATE:20240802
DTEND;VALUE=DATE:20240802
SUMMARY:Ausschreibung — Generalsanierung Hohenstaufen Gymnasium - Lüftungsinstallati
DESCRIPTION:Phase: Ausschreibung | Beschreibung: Offizielle Ausschreibung mit Bieterfrist. | Link: https://ausschreibungsradar.com/ausschreibung/94260f06-aea6-4c3e-baac-f2174ad7b64a/
URL:https://ausschreibungsradar.com/ausschreibung/94260f06-aea6-4c3e-baac-f2174ad7b64a/
END:VEVENT
BEGIN:VEVENT
UID:11338ddae9dd9aec@ausschreibungsradar.com
DTSTAMP:20260424T155000Z
DTSTART;VALUE=DATE:20240820
DTEND;VALUE=DATE:20240820
SUMMARY:Ausschreibung — Generalsanierung Hohenstaufen Gymnasium - Lüftungsinstallati
DESCRIPTION:Phase: Ausschreibung | Beschreibung: Offizielle Ausschreibung mit Bieterfrist. | Link: https://ausschreibungsradar.com/ausschreibung/76acaa19-4f72-4dbb-8e0e-73f96772681a/
URL:https://ausschreibungsradar.com/ausschreibung/76acaa19-4f72-4dbb-8e0e-73f96772681a/
END:VEVENT
BEGIN:VEVENT
UID:0617293d1f5cf962@ausschreibungsradar.com
DTSTAMP:20260424T155000Z
DTSTART;VALUE=DATE:20241009
DTEND;VALUE=DATE:20241009
SUMMARY:Vergabeergebnis — Generalsanierung Hohenstaufen Gymnasium - Lüftungsinstallati
DESCRIPTION:Phase: Vergabeergebnis | Beschreibung: Auftrag wurde zugeschlagen | Link: https://ausschreibungsradar.com/ausschreibung/23a95751-43e5-46d4-b958-29e8f489ef65/
URL:https://ausschreibungsradar.com/ausschreibung/23a95751-43e5-46d4-b958-29e8f489ef65/
END:VEVENT
END:VCALENDAR
