BEGIN:VCALENDAR
VERSION:2.0
PRODID:-//AusschreibungsRadar//Timeline//DE
CALSCALE:GREGORIAN
METHOD:PUBLISH
X-WR-CALNAME:Projekt ESTW Köln HBF - Vergabelos 4 - Fachlose 1 bis 4 (Kabeltiefba
X-WR-TIMEZONE:Europe/Berlin
BEGIN:VEVENT
UID:7f7e9e4cee2b22e4@ausschreibungsradar.com
DTSTAMP:20260424T143845Z
DTSTART;VALUE=DATE:20260129
DTEND;VALUE=DATE:20260129
SUMMARY:Vertragsmodifikation — ESTW Köln HBF - Vergabelos 4 - Fachlose 1 bis 4 (Kabeltiefba
DESCRIPTION:Phase: Vertragsmodifikation | Beschreibung: Änderung am bestehenden Vertrag nach Zuschlag. | Link: https://ausschreibungsradar.com/ausschreibung/95bef4ee-aa41-437a-802c-32b1615c156c/
URL:https://ausschreibungsradar.com/ausschreibung/95bef4ee-aa41-437a-802c-32b1615c156c/
END:VEVENT
BEGIN:VEVENT
UID:4ca3d32290b02c38@ausschreibungsradar.com
DTSTAMP:20260424T143845Z
DTSTART;VALUE=DATE:20260219
DTEND;VALUE=DATE:20260219
SUMMARY:Vertragsmodifikation — ESTW Köln HBF - Vergabelos 4 - Fachlose 1 bis 4 (Kabeltiefba
DESCRIPTION:Phase: Vertragsmodifikation | Beschreibung: Änderung am bestehenden Vertrag nach Zuschlag. | Link: https://ausschreibungsradar.com/ausschreibung/c2882d92-7381-44f8-848e-99b7b3106837/
URL:https://ausschreibungsradar.com/ausschreibung/c2882d92-7381-44f8-848e-99b7b3106837/
END:VEVENT
BEGIN:VEVENT
UID:2d4242c19fb8ae1f@ausschreibungsradar.com
DTSTAMP:20260424T143845Z
DTSTART;VALUE=DATE:20260305
DTEND;VALUE=DATE:20260305
SUMMARY:Vertragsmodifikation — ESTW Köln HBF - Vergabelos 4 - Fachlose 1 bis 4 (Kabeltiefba
DESCRIPTION:Phase: Vertragsmodifikation | Beschreibung: Änderung am bestehenden Vertrag nach Zuschlag. | Link: https://ausschreibungsradar.com/ausschreibung/4ad840c8-e27a-479c-a1ec-0c72fb072a48/
URL:https://ausschreibungsradar.com/ausschreibung/4ad840c8-e27a-479c-a1ec-0c72fb072a48/
END:VEVENT
BEGIN:VEVENT
UID:b57eaf2e6f2d0164@ausschreibungsradar.com
DTSTAMP:20260424T143845Z
DTSTART;VALUE=DATE:20260410
DTEND;VALUE=DATE:20260410
SUMMARY:Vertragsmodifikation — ESTW Köln HBF - Vergabelos 4 - Fachlose 1 bis 4 (Kabeltiefba
DESCRIPTION:Phase: Vertragsmodifikation | Beschreibung: Änderung am bestehenden Vertrag nach Zuschlag. | Link: https://ausschreibungsradar.com/ausschreibung/656f8789-ded2-45a1-a7a8-b1fea91f8856/
URL:https://ausschreibungsradar.com/ausschreibung/656f8789-ded2-45a1-a7a8-b1fea91f8856/
END:VEVENT
BEGIN:VEVENT
UID:5c168be432ba880a@ausschreibungsradar.com
DTSTAMP:20260424T143845Z
DTSTART;VALUE=DATE:20260415
DTEND;VALUE=DATE:20260415
SUMMARY:Vertragsänderung — ESTW Köln HBF - Vergabelos 4 - Fachlose 1 bis 4 (Kabeltiefba
DESCRIPTION:Phase: Vertragsänderung | Beschreibung: Zusätzliche Lieferungen/Leistungen beauftragt | Link: https://ausschreibungsradar.com/ausschreibung/b39d8dbb-d757-4330-a84b-bb06ef5ab3ce/
URL:https://ausschreibungsradar.com/ausschreibung/b39d8dbb-d757-4330-a84b-bb06ef5ab3ce/
END:VEVENT
BEGIN:VEVENT
UID:d8c544839398c632@ausschreibungsradar.com
DTSTAMP:20260424T143845Z
DTSTART;VALUE=DATE:20260415
DTEND;VALUE=DATE:20260415
SUMMARY:Vertragsmodifikation — ESTW Köln HBF - Vergabelos 4 - Fachlose 1 bis 4 (Kabeltiefba
DESCRIPTION:Phase: Vertragsmodifikation | Beschreibung: Änderung am bestehenden Vertrag nach Zuschlag. | Link: https://ausschreibungsradar.com/ausschreibung/2be34fa0-f30a-4aab-9e3d-0b1621e8ad0e/
URL:https://ausschreibungsradar.com/ausschreibung/2be34fa0-f30a-4aab-9e3d-0b1621e8ad0e/
END:VEVENT
END:VCALENDAR
