BEGIN:VCALENDAR
VERSION:2.0
PRODID:-//AusschreibungsRadar//Timeline//DE
CALSCALE:GREGORIAN
METHOD:PUBLISH
X-WR-CALNAME:Projekt Franziskanerkloster Zeitz - Instandsetzung und Modernisierun
X-WR-TIMEZONE:Europe/Berlin
BEGIN:VEVENT
UID:0a7031586315d4f1@ausschreibungsradar.com
DTSTAMP:20260425T143519Z
DTSTART;VALUE=DATE:20240430
DTEND;VALUE=DATE:20240430
SUMMARY:Ausschreibung — Franziskanerkloster Zeitz - Instandsetzung und Modernisierun
DESCRIPTION:Phase: Ausschreibung | Beschreibung: Angebote werden eingeholt | Link: https://ausschreibungsradar.com/ausschreibung/b3c96a15-aa9e-400f-814a-2bbd372cd965/
URL:https://ausschreibungsradar.com/ausschreibung/b3c96a15-aa9e-400f-814a-2bbd372cd965/
END:VEVENT
BEGIN:VEVENT
UID:3cceddc9b5630b52@ausschreibungsradar.com
DTSTAMP:20260425T143519Z
DTSTART;VALUE=DATE:20240502
DTEND;VALUE=DATE:20240502
SUMMARY:Ausschreibung — Franziskanerkloster Zeitz - Instandsetzung und Modernisierun
DESCRIPTION:Phase: Ausschreibung | Beschreibung: Offizielle Ausschreibung mit Bieterfrist. | Link: https://ausschreibungsradar.com/ausschreibung/ted-261893-2024/
URL:https://ausschreibungsradar.com/ausschreibung/ted-261893-2024/
END:VEVENT
BEGIN:VEVENT
UID:e6c33f6b0befb60f@ausschreibungsradar.com
DTSTAMP:20260425T143519Z
DTSTART;VALUE=DATE:20240722
DTEND;VALUE=DATE:20240722
SUMMARY:Vergabeergebnis — Franziskanerkloster Zeitz - Instandsetzung und Modernisierun
DESCRIPTION:Phase: Vergabeergebnis | Beschreibung: Auftrag wurde zugeschlagen | Link: https://ausschreibungsradar.com/ausschreibung/015878db-3b95-4618-b78e-b3aef75ae51c/
URL:https://ausschreibungsradar.com/ausschreibung/015878db-3b95-4618-b78e-b3aef75ae51c/
END:VEVENT
END:VCALENDAR
