BEGIN:VCALENDAR
VERSION:2.0
PRODID:-//AusschreibungsRadar//Timeline//DE
CALSCALE:GREGORIAN
METHOD:PUBLISH
X-WR-CALNAME:Projekt Stadt Weingarten: Neubau Talschule Weingarten, Lüftung
X-WR-TIMEZONE:Europe/Berlin
BEGIN:VEVENT
UID:d613b454484cde39@ausschreibungsradar.com
DTSTAMP:20260425T144118Z
DTSTART;VALUE=DATE:20250424
DTEND;VALUE=DATE:20250424
SUMMARY:Zuschlag — Stadt Weingarten: Neubau Talschule Weingarten\, Lüftung
DESCRIPTION:Phase: Zuschlag | Beschreibung: Vergabeergebnis — Auftrag wurde erteilt oder Verfahren beendet. | Link: https://ausschreibungsradar.com/ausschreibung/c7196615-15e6-4c9b-86b6-5152c9a3b0f1/
URL:https://ausschreibungsradar.com/ausschreibung/c7196615-15e6-4c9b-86b6-5152c9a3b0f1/
END:VEVENT
BEGIN:VEVENT
UID:c9ca0f8a22324c63@ausschreibungsradar.com
DTSTAMP:20260425T144118Z
DTSTART;VALUE=DATE:20250611
DTEND;VALUE=DATE:20250611
SUMMARY:Angebotsfrist — Stadt Weingarten: Neubau Talschule Weingarten\, Lüftung
DESCRIPTION:Phase: Ausschreibung | Beschreibung: Angebote werden eingeholt | Link: https://ausschreibungsradar.com/ausschreibung/b47b157f-41c8-410c-9533-9bbe2d051746/
URL:https://ausschreibungsradar.com/ausschreibung/b47b157f-41c8-410c-9533-9bbe2d051746/
END:VEVENT
BEGIN:VEVENT
UID:fdacb5a7ea0e4c62@ausschreibungsradar.com
DTSTAMP:20260425T144118Z
DTSTART;VALUE=DATE:20250507
DTEND;VALUE=DATE:20250507
SUMMARY:Ausschreibung — Stadt Weingarten: Neubau Talschule Weingarten\, Lüftung
DESCRIPTION:Phase: Ausschreibung | Beschreibung: Offizielle Ausschreibung mit Bieterfrist. | Link: https://ausschreibungsradar.com/ausschreibung/0f31a558-6316-47f9-999e-ab5a063aeb9c/
URL:https://ausschreibungsradar.com/ausschreibung/0f31a558-6316-47f9-999e-ab5a063aeb9c/
END:VEVENT
BEGIN:VEVENT
UID:f12d575f198faa23@ausschreibungsradar.com
DTSTAMP:20260425T144118Z
DTSTART;VALUE=DATE:20250909
DTEND;VALUE=DATE:20250909
SUMMARY:Vergabeergebnis — Stadt Weingarten: Neubau Talschule Weingarten\, Lüftung
DESCRIPTION:Phase: Vergabeergebnis | Beschreibung: Auftrag wurde zugeschlagen | Link: https://ausschreibungsradar.com/ausschreibung/d9858a61-6f99-4de7-aef2-33e0115f68d8/
URL:https://ausschreibungsradar.com/ausschreibung/d9858a61-6f99-4de7-aef2-33e0115f68d8/
END:VEVENT
END:VCALENDAR
