BEGIN:VCALENDAR
VERSION:2.0
PRODID:-//AusschreibungsRadar//Timeline//DE
CALSCALE:GREGORIAN
METHOD:PUBLISH
X-WR-CALNAME:Projekt Neubau eines Waldhortes mit Kindergarten, Begegnungsraum und
X-WR-TIMEZONE:Europe/Berlin
BEGIN:VEVENT
UID:95e25e22521b3bbf@ausschreibungsradar.com
DTSTAMP:20260425T230815Z
DTSTART;VALUE=DATE:20240517
DTEND;VALUE=DATE:20240517
SUMMARY:Ausschreibung — Neubau eines Waldhortes mit Kindergarten\, Begegnungsraum und
DESCRIPTION:Phase: Ausschreibung | Beschreibung: Angebote werden eingeholt | Link: https://ausschreibungsradar.com/ausschreibung/b47cf23f-d956-4256-8546-cf4e5e8bb74c/
URL:https://ausschreibungsradar.com/ausschreibung/b47cf23f-d956-4256-8546-cf4e5e8bb74c/
END:VEVENT
BEGIN:VEVENT
UID:cd7debe8e2e0a1a4@ausschreibungsradar.com
DTSTAMP:20260425T230815Z
DTSTART;VALUE=DATE:20240517
DTEND;VALUE=DATE:20240517
SUMMARY:Ausschreibung — Neubau eines Waldhortes mit Kindergarten\, Begegnungsraum und
DESCRIPTION:Phase: Ausschreibung | Beschreibung: Offizielle Ausschreibung mit Bieterfrist. | Link: https://ausschreibungsradar.com/ausschreibung/f65612a7-3593-44f2-aa12-af2a5905e561/
URL:https://ausschreibungsradar.com/ausschreibung/f65612a7-3593-44f2-aa12-af2a5905e561/
END:VEVENT
BEGIN:VEVENT
UID:3c27d2f0ea8e568c@ausschreibungsradar.com
DTSTAMP:20260425T230815Z
DTSTART;VALUE=DATE:20240916
DTEND;VALUE=DATE:20240916
SUMMARY:Vergabeergebnis — Neubau eines Waldhortes mit Kindergarten\, Begegnungsraum und
DESCRIPTION:Phase: Vergabeergebnis | Beschreibung: Auftrag wurde zugeschlagen | Link: https://ausschreibungsradar.com/ausschreibung/df76006b-0550-4264-b1c4-ba855f2f7afe/
URL:https://ausschreibungsradar.com/ausschreibung/df76006b-0550-4264-b1c4-ba855f2f7afe/
END:VEVENT
END:VCALENDAR
