BEGIN:VCALENDAR
VERSION:2.0
PRODID:-//AusschreibungsRadar//Timeline//DE
CALSCALE:GREGORIAN
METHOD:PUBLISH
X-WR-CALNAME:Projekt Sicherheitssoftware Trend Micro Cloud Lösung sowie Umstellun
X-WR-TIMEZONE:Europe/Berlin
BEGIN:VEVENT
UID:d0fa97dfecaa879a@ausschreibungsradar.com
DTSTAMP:20260425T151607Z
DTSTART;VALUE=DATE:20240905
DTEND;VALUE=DATE:20240905
SUMMARY:Direktvergabe-Ankündigung — Sicherheitssoftware Trend Micro Cloud Lösung sowie Umstellun
DESCRIPTION:Phase: Direktvergabe-Ankündigung | Beschreibung: Geplante Direktvergabe (VEAT) — 10 Tage Stillhaltefrist | Link: https://ausschreibungsradar.com/ausschreibung/5903a04c-b4e1-407c-8acb-b3357079d6a2/
URL:https://ausschreibungsradar.com/ausschreibung/5903a04c-b4e1-407c-8acb-b3357079d6a2/
END:VEVENT
BEGIN:VEVENT
UID:a1183c3f189f5c77@ausschreibungsradar.com
DTSTAMP:20260425T151607Z
DTSTART;VALUE=DATE:20240927
DTEND;VALUE=DATE:20240927
SUMMARY:Vergabeergebnis — Sicherheitssoftware Trend Micro Cloud Lösung sowie Umstellun
DESCRIPTION:Phase: Vergabeergebnis | Beschreibung: Auftrag wurde zugeschlagen | Link: https://ausschreibungsradar.com/ausschreibung/b4deb439-3bcc-4cee-9524-08404ed399c6/
URL:https://ausschreibungsradar.com/ausschreibung/b4deb439-3bcc-4cee-9524-08404ed399c6/
END:VEVENT
END:VCALENDAR
