BEGIN:VCALENDAR
VERSION:2.0
PRODID:-//AusschreibungsRadar//Timeline//DE
CALSCALE:GREGORIAN
METHOD:PUBLISH
X-WR-CALNAME:Projekt Pipettierroboter und Sequenzer
X-WR-TIMEZONE:Europe/Berlin
BEGIN:VEVENT
UID:31f0cbf84459bbda@ausschreibungsradar.com
DTSTAMP:20260424T133303Z
DTSTART;VALUE=DATE:20260305
DTEND;VALUE=DATE:20260305
SUMMARY:Ausschreibung — Pipettierroboter und Sequenzer
DESCRIPTION:Phase: Ausschreibung | Beschreibung: Angebote werden eingeholt | Link: https://ausschreibungsradar.com/ausschreibung/b4e7d3ec-442e-4782-90be-7dadf6b71e86/
URL:https://ausschreibungsradar.com/ausschreibung/b4e7d3ec-442e-4782-90be-7dadf6b71e86/
END:VEVENT
BEGIN:VEVENT
UID:2b42f55709bc66ad@ausschreibungsradar.com
DTSTAMP:20260424T133303Z
DTSTART;VALUE=DATE:20260305
DTEND;VALUE=DATE:20260305
SUMMARY:Ausschreibung — Pipettierroboter und Sequenzer
DESCRIPTION:Phase: Ausschreibung | Beschreibung: Offizielle Ausschreibung mit Bieterfrist. | Link: https://ausschreibungsradar.com/ausschreibung/992bfce7-00a7-4923-a9d4-3e160bdfaf6c/
URL:https://ausschreibungsradar.com/ausschreibung/992bfce7-00a7-4923-a9d4-3e160bdfaf6c/
END:VEVENT
END:VCALENDAR
