BEGIN:VCALENDAR
VERSION:2.0
PRODID:-//AusschreibungsRadar//Timeline//DE
CALSCALE:GREGORIAN
METHOD:PUBLISH
X-WR-CALNAME:Projekt Gebäudereinigung Verwaltungsobjekt BLK, Neidschützer Str. 1,
X-WR-TIMEZONE:Europe/Berlin
BEGIN:VEVENT
UID:c57a9af995cb965a@ausschreibungsradar.com
DTSTAMP:20260425T105513Z
DTSTART;VALUE=DATE:20250819
DTEND;VALUE=DATE:20250819
SUMMARY:Ausschreibung — Gebäudereinigung Verwaltungsobjekt BLK\, Neidschützer Str. 1\,
DESCRIPTION:Phase: Ausschreibung | Beschreibung: Angebote werden eingeholt | Link: https://ausschreibungsradar.com/ausschreibung/6a712c67-3afe-4f94-a9df-cb696c68f8a7/
URL:https://ausschreibungsradar.com/ausschreibung/6a712c67-3afe-4f94-a9df-cb696c68f8a7/
END:VEVENT
BEGIN:VEVENT
UID:3ff0231538de8d0b@ausschreibungsradar.com
DTSTAMP:20260425T105513Z
DTSTART;VALUE=DATE:20250819
DTEND;VALUE=DATE:20250819
SUMMARY:Ausschreibung — Gebäudereinigung Verwaltungsobjekt BLK\, Neidschützer Str. 1\,
DESCRIPTION:Phase: Ausschreibung | Beschreibung: Offizielle Ausschreibung mit Bieterfrist. | Link: https://ausschreibungsradar.com/ausschreibung/7d29d262-5601-4713-bd9b-6226301cdd78/
URL:https://ausschreibungsradar.com/ausschreibung/7d29d262-5601-4713-bd9b-6226301cdd78/
END:VEVENT
BEGIN:VEVENT
UID:ab685ac41b896c42@ausschreibungsradar.com
DTSTAMP:20260425T105513Z
DTSTART;VALUE=DATE:20251112
DTEND;VALUE=DATE:20251112
SUMMARY:Zuschlag — Gebäudereinigung Verwaltungsobjekt BLK\, Neidschützer Str. 1\,
DESCRIPTION:Phase: Zuschlag | Beschreibung: Vergabeergebnis — Auftrag wurde erteilt oder Verfahren beendet. | Link: https://ausschreibungsradar.com/ausschreibung/8c89d240-e441-4419-98e5-9170b5eccdd5/
URL:https://ausschreibungsradar.com/ausschreibung/8c89d240-e441-4419-98e5-9170b5eccdd5/
END:VEVENT
BEGIN:VEVENT
UID:59aaccddb31f2dda@ausschreibungsradar.com
DTSTAMP:20260425T105513Z
DTSTART;VALUE=DATE:20251119
DTEND;VALUE=DATE:20251119
SUMMARY:Vergabeergebnis — Gebäudereinigung Verwaltungsobjekt BLK\, Neidschützer Str. 1\,
DESCRIPTION:Phase: Vergabeergebnis | Beschreibung: Auftrag wurde zugeschlagen | Link: https://ausschreibungsradar.com/ausschreibung/b4f51232-6d2c-4ebe-bf09-864cf3e60589/
URL:https://ausschreibungsradar.com/ausschreibung/b4f51232-6d2c-4ebe-bf09-864cf3e60589/
END:VEVENT
END:VCALENDAR
