BEGIN:VCALENDAR
VERSION:2.0
PRODID:-//AusschreibungsRadar//Timeline//DE
CALSCALE:GREGORIAN
METHOD:PUBLISH
X-WR-CALNAME:Projekt Erweiterung Mittelschule
X-WR-TIMEZONE:Europe/Berlin
BEGIN:VEVENT
UID:f588eec662c2e2e7@ausschreibungsradar.com
DTSTAMP:20260425T151506Z
DTSTART;VALUE=DATE:20260216
DTEND;VALUE=DATE:20260216
SUMMARY:Zuschlag — Erweiterung Mittelschule
DESCRIPTION:Phase: Zuschlag | Beschreibung: Vergabeergebnis — Auftrag wurde erteilt oder Verfahren beendet. | Link: https://ausschreibungsradar.com/ausschreibung/51f1d033-7761-4ddf-a37a-bfe6d3eaf445/
URL:https://ausschreibungsradar.com/ausschreibung/51f1d033-7761-4ddf-a37a-bfe6d3eaf445/
END:VEVENT
BEGIN:VEVENT
UID:1cff16f3560e49b1@ausschreibungsradar.com
DTSTAMP:20260425T151506Z
DTSTART;VALUE=DATE:20260421
DTEND;VALUE=DATE:20260421
SUMMARY:Angebotsfrist — Erweiterung Mittelschule
DESCRIPTION:Phase: Ausschreibung | Beschreibung: Angebote werden eingeholt | Link: https://ausschreibungsradar.com/ausschreibung/b51b7e8e-8c19-4583-87c9-e49a642aa550/
URL:https://ausschreibungsradar.com/ausschreibung/b51b7e8e-8c19-4583-87c9-e49a642aa550/
END:VEVENT
BEGIN:VEVENT
UID:47b5059ac2420fba@ausschreibungsradar.com
DTSTAMP:20260425T151506Z
DTSTART;VALUE=DATE:20260318
DTEND;VALUE=DATE:20260318
SUMMARY:Ausschreibung — Erweiterung Mittelschule
DESCRIPTION:Phase: Ausschreibung | Beschreibung: Offizielle Ausschreibung mit Bieterfrist. | Link: https://ausschreibungsradar.com/ausschreibung/ad70006d-45aa-4991-9daa-e5fe17625dc9/
URL:https://ausschreibungsradar.com/ausschreibung/ad70006d-45aa-4991-9daa-e5fe17625dc9/
END:VEVENT
END:VCALENDAR
