BEGIN:VCALENDAR
VERSION:2.0
PRODID:-//AusschreibungsRadar//Timeline//DE
CALSCALE:GREGORIAN
METHOD:PUBLISH
X-WR-CALNAME:Projekt Regionalbusverkehr Dillingen
X-WR-TIMEZONE:Europe/Berlin
BEGIN:VEVENT
UID:d9999745963b2c97@ausschreibungsradar.com
DTSTAMP:20260425T192646Z
DTSTART;VALUE=DATE:20240828
DTEND;VALUE=DATE:20240828
SUMMARY:Vorinformation — Regionalbusverkehr Dillingen
DESCRIPTION:Phase: Vorinformation | Beschreibung: Vorab-Ankündigung der Vergabestelle — keine verbindliche Ausschreibung. | Link: https://ausschreibungsradar.com/ausschreibung/b5468b48-66f3-470e-947d-8c3d3c532dcc
URL:https://ausschreibungsradar.com/ausschreibung/b5468b48-66f3-470e-947d-8c3d3c532dcc/
END:VEVENT
BEGIN:VEVENT
UID:8ec9b5092e82b768@ausschreibungsradar.com
DTSTAMP:20260425T192646Z
DTSTART;VALUE=DATE:20240828
DTEND;VALUE=DATE:20240828
SUMMARY:Vorinformation — Regionalbusverkehr Dillingen
DESCRIPTION:Phase: Vorinformation | Beschreibung: Vorab-Ankündigung der Vergabestelle — keine verbindliche Ausschreibung. | Link: https://ausschreibungsradar.com/ausschreibung/6baca988-f10d-490b-a5d8-958c780f673a
URL:https://ausschreibungsradar.com/ausschreibung/6baca988-f10d-490b-a5d8-958c780f673a/
END:VEVENT
END:VCALENDAR
