BEGIN:VCALENDAR
VERSION:2.0
PRODID:-//AusschreibungsRadar//Timeline//DE
CALSCALE:GREGORIAN
METHOD:PUBLISH
X-WR-CALNAME:Projekt Verbandsgemeinde Altenkirchen-Flammersfeld - Glasversicherun
X-WR-TIMEZONE:Europe/Berlin
BEGIN:VEVENT
UID:a8b2bb0d876a4c26@ausschreibungsradar.com
DTSTAMP:20260426T004410Z
DTSTART;VALUE=DATE:20241217
DTEND;VALUE=DATE:20241217
SUMMARY:Angebotsfrist — Verbandsgemeinde Altenkirchen-Flammersfeld - Glasversicherun
DESCRIPTION:Phase: Ausschreibung | Beschreibung: Angebote werden eingeholt | Link: https://ausschreibungsradar.com/ausschreibung/00e97a5f-0cbb-43d3-a100-32399a267e21/
URL:https://ausschreibungsradar.com/ausschreibung/00e97a5f-0cbb-43d3-a100-32399a267e21/
END:VEVENT
BEGIN:VEVENT
UID:d9357f65fd8870f7@ausschreibungsradar.com
DTSTAMP:20260426T004410Z
DTSTART;VALUE=DATE:20241113
DTEND;VALUE=DATE:20241113
SUMMARY:Ausschreibung — Verbandsgemeinde Altenkirchen-Flammersfeld - Glasversicherun
DESCRIPTION:Phase: Ausschreibung | Beschreibung: Offizielle Ausschreibung mit Bieterfrist. | Link: https://ausschreibungsradar.com/ausschreibung/237e1884-e7ab-4870-a43c-d49f4a7dbe79/
URL:https://ausschreibungsradar.com/ausschreibung/237e1884-e7ab-4870-a43c-d49f4a7dbe79/
END:VEVENT
BEGIN:VEVENT
UID:1fd24e73cff0c823@ausschreibungsradar.com
DTSTAMP:20260426T004410Z
DTSTART;VALUE=DATE:20241113
DTEND;VALUE=DATE:20241113
SUMMARY:Ausschreibung — Verbandsgemeinde Altenkirchen-Flammersfeld - Glasversicherun
DESCRIPTION:Phase: Ausschreibung | Beschreibung: Offizielle Ausschreibung mit Bieterfrist. | Link: https://ausschreibungsradar.com/ausschreibung/cee11e97-40fe-442c-bc0f-a579d3e49032/
URL:https://ausschreibungsradar.com/ausschreibung/cee11e97-40fe-442c-bc0f-a579d3e49032/
END:VEVENT
BEGIN:VEVENT
UID:103ba7c4bce037b1@ausschreibungsradar.com
DTSTAMP:20260426T004410Z
DTSTART;VALUE=DATE:20241222
DTEND;VALUE=DATE:20241222
SUMMARY:Ausschreibung — Verbandsgemeinde Altenkirchen-Flammersfeld - Glasversicherun
DESCRIPTION:Phase: Ausschreibung | Beschreibung: Offizielle Ausschreibung mit Bieterfrist. | Link: https://ausschreibungsradar.com/ausschreibung/7ddc5376-d16a-4741-ba48-b4ac21c4a270/
URL:https://ausschreibungsradar.com/ausschreibung/7ddc5376-d16a-4741-ba48-b4ac21c4a270/
END:VEVENT
BEGIN:VEVENT
UID:b04d6ae341171e94@ausschreibungsradar.com
DTSTAMP:20260426T004410Z
DTSTART;VALUE=DATE:20250101
DTEND;VALUE=DATE:20250101
SUMMARY:Vergabeergebnis — Verbandsgemeinde Altenkirchen-Flammersfeld - Glasversicherun
DESCRIPTION:Phase: Vergabeergebnis | Beschreibung: Verfahren beendet ohne Vergabe | Link: https://ausschreibungsradar.com/ausschreibung/b555b908-8d3e-40d7-ae5f-c40dafccf395/
URL:https://ausschreibungsradar.com/ausschreibung/b555b908-8d3e-40d7-ae5f-c40dafccf395/
END:VEVENT
BEGIN:VEVENT
UID:aa7e408fc45521f4@ausschreibungsradar.com
DTSTAMP:20260426T004410Z
DTSTART;VALUE=DATE:20250101
DTEND;VALUE=DATE:20250101
SUMMARY:Zuschlag — Verbandsgemeinde Altenkirchen-Flammersfeld - Glasversicherun
DESCRIPTION:Phase: Zuschlag | Beschreibung: Vergabeergebnis — Auftrag wurde erteilt oder Verfahren beendet. | Link: https://ausschreibungsradar.com/ausschreibung/5f942b9b-5926-44f9-be1b-60e9dff4fa8b/
URL:https://ausschreibungsradar.com/ausschreibung/5f942b9b-5926-44f9-be1b-60e9dff4fa8b/
END:VEVENT
END:VCALENDAR
