BEGIN:VCALENDAR
VERSION:2.0
PRODID:-//AusschreibungsRadar//Timeline//DE
CALSCALE:GREGORIAN
METHOD:PUBLISH
X-WR-CALNAME:Projekt KU Spalt AöR - Ausschreibung Betriebstechnik
X-WR-TIMEZONE:Europe/Berlin
BEGIN:VEVENT
UID:dd15c57aff6f8abc@ausschreibungsradar.com
DTSTAMP:20260424T105440Z
DTSTART;VALUE=DATE:20240423
DTEND;VALUE=DATE:20240423
SUMMARY:Angebotsfrist — KU Spalt AöR - Ausschreibung Betriebstechnik
DESCRIPTION:Phase: Ausschreibung | Beschreibung: Angebote werden eingeholt | Link: https://ausschreibungsradar.com/ausschreibung/ec7d6ace-4c91-493d-9257-1a9f7f00779c/
URL:https://ausschreibungsradar.com/ausschreibung/ec7d6ace-4c91-493d-9257-1a9f7f00779c/
END:VEVENT
BEGIN:VEVENT
UID:9701194527614de3@ausschreibungsradar.com
DTSTAMP:20260424T105440Z
DTSTART;VALUE=DATE:20240527
DTEND;VALUE=DATE:20240527
SUMMARY:Vergabeergebnis — KU Spalt AöR - Ausschreibung Betriebstechnik
DESCRIPTION:Phase: Vergabeergebnis | Beschreibung: Auftrag wurde zugeschlagen | Link: https://ausschreibungsradar.com/ausschreibung/b5b9093d-cde1-4178-ab86-e067bc676c38/
URL:https://ausschreibungsradar.com/ausschreibung/b5b9093d-cde1-4178-ab86-e067bc676c38/
END:VEVENT
END:VCALENDAR
