BEGIN:VCALENDAR
VERSION:2.0
PRODID:-//AusschreibungsRadar//Timeline//DE
CALSCALE:GREGORIAN
METHOD:PUBLISH
X-WR-CALNAME:Projekt 1 Mitarbeiter (m/w/d) in ANÜ –  
Mitarbeiter Elektrotechnik 
X-WR-TIMEZONE:Europe/Berlin
BEGIN:VEVENT
UID:eb03c0ae49323413@ausschreibungsradar.com
DTSTAMP:20260425T213337Z
DTSTART;VALUE=DATE:20231114
DTEND;VALUE=DATE:20231114
SUMMARY:Ausschreibung — 1 Mitarbeiter (m/w/d) in ANÜ –  \nMitarbeiter Elektrotechnik 
DESCRIPTION:Phase: Ausschreibung | Beschreibung: Angebote werden eingeholt | Link: https://ausschreibungsradar.com/ausschreibung/b5bf22d1-1c64-4ac3-b427-e8701d75f620/
URL:https://ausschreibungsradar.com/ausschreibung/b5bf22d1-1c64-4ac3-b427-e8701d75f620/
END:VEVENT
BEGIN:VEVENT
UID:b677ddfa953e8bcf@ausschreibungsradar.com
DTSTAMP:20260425T213337Z
DTSTART;VALUE=DATE:20231122
DTEND;VALUE=DATE:20231122
SUMMARY:Zuschlag — 1 Mitarbeiter (m/w/d) in ANÜ –  \nMitarbeiter Elektrotechnik 
DESCRIPTION:Phase: Zuschlag | Beschreibung: Vergabeergebnis — Auftrag wurde erteilt oder Verfahren beendet. | Link: https://ausschreibungsradar.com/ausschreibung/a77cfa38-c59f-4883-aa86-42e6e898b89f/
URL:https://ausschreibungsradar.com/ausschreibung/a77cfa38-c59f-4883-aa86-42e6e898b89f/
END:VEVENT
BEGIN:VEVENT
UID:968879c494827871@ausschreibungsradar.com
DTSTAMP:20260425T213337Z
DTSTART;VALUE=DATE:20231207
DTEND;VALUE=DATE:20231207
SUMMARY:Ausschreibung — 1 Mitarbeiter (m/w/d) in ANÜ –  \nMitarbeiter Elektrotechnik 
DESCRIPTION:Phase: Ausschreibung | Beschreibung: Offizielle Ausschreibung mit Bieterfrist. | Link: https://ausschreibungsradar.com/ausschreibung/59dea0b6-b247-4d66-a439-6ba6a7c21872/
URL:https://ausschreibungsradar.com/ausschreibung/59dea0b6-b247-4d66-a439-6ba6a7c21872/
END:VEVENT
BEGIN:VEVENT
UID:6c574589378b9eb6@ausschreibungsradar.com
DTSTAMP:20260425T213337Z
DTSTART;VALUE=DATE:20240123
DTEND;VALUE=DATE:20240123
SUMMARY:Vergabeergebnis — 1 Mitarbeiter (m/w/d) in ANÜ –  \nMitarbeiter Elektrotechnik 
DESCRIPTION:Phase: Vergabeergebnis | Beschreibung: Auftrag wurde zugeschlagen | Link: https://ausschreibungsradar.com/ausschreibung/8f0d3d36-8efb-493f-8a8a-7ea0ffe8a1f6/
URL:https://ausschreibungsradar.com/ausschreibung/8f0d3d36-8efb-493f-8a8a-7ea0ffe8a1f6/
END:VEVENT
END:VCALENDAR
