BEGIN:VCALENDAR
VERSION:2.0
PRODID:-//AusschreibungsRadar//Timeline//DE
CALSCALE:GREGORIAN
METHOD:PUBLISH
X-WR-CALNAME:Projekt Laborgeräte Neubau ICON
X-WR-TIMEZONE:Europe/Berlin
BEGIN:VEVENT
UID:d821017a9585c25e@ausschreibungsradar.com
DTSTAMP:20260425T032041Z
DTSTART;VALUE=DATE:20240208
DTEND;VALUE=DATE:20240208
SUMMARY:Ausschreibung — Laborgeräte Neubau ICON
DESCRIPTION:Phase: Ausschreibung | Beschreibung: Angebote werden eingeholt | Link: https://ausschreibungsradar.com/ausschreibung/b5d405a2-7183-4c78-9ea4-70b431c55139/
URL:https://ausschreibungsradar.com/ausschreibung/b5d405a2-7183-4c78-9ea4-70b431c55139/
END:VEVENT
BEGIN:VEVENT
UID:4111bb7b85596c44@ausschreibungsradar.com
DTSTAMP:20260425T032041Z
DTSTART;VALUE=DATE:20240208
DTEND;VALUE=DATE:20240208
SUMMARY:Ausschreibung — Laborgeräte Neubau ICON
DESCRIPTION:Phase: Ausschreibung | Beschreibung: Offizielle Ausschreibung mit Bieterfrist. | Link: https://ausschreibungsradar.com/ausschreibung/5def341e-fb8c-4ac7-932a-12197596b525/
URL:https://ausschreibungsradar.com/ausschreibung/5def341e-fb8c-4ac7-932a-12197596b525/
END:VEVENT
BEGIN:VEVENT
UID:7f9a6ebe2aa0fe99@ausschreibungsradar.com
DTSTAMP:20260425T032041Z
DTSTART;VALUE=DATE:20240212
DTEND;VALUE=DATE:20240212
SUMMARY:Ausschreibung — Laborgeräte Neubau ICON
DESCRIPTION:Phase: Ausschreibung | Beschreibung: Offizielle Ausschreibung mit Bieterfrist. | Link: https://ausschreibungsradar.com/ausschreibung/ted-86966-2024/
URL:https://ausschreibungsradar.com/ausschreibung/ted-86966-2024/
END:VEVENT
BEGIN:VEVENT
UID:437dea1b3dd74492@ausschreibungsradar.com
DTSTAMP:20260425T032041Z
DTSTART;VALUE=DATE:20240730
DTEND;VALUE=DATE:20240730
SUMMARY:Vergabeergebnis — Laborgeräte Neubau ICON
DESCRIPTION:Phase: Vergabeergebnis | Beschreibung: Rücknahme durch Auftraggeber | Link: https://ausschreibungsradar.com/ausschreibung/4bab0385-70c5-4ef5-a1df-8f65cde4e6f2/
URL:https://ausschreibungsradar.com/ausschreibung/4bab0385-70c5-4ef5-a1df-8f65cde4e6f2/
END:VEVENT
END:VCALENDAR
