BEGIN:VCALENDAR
VERSION:2.0
PRODID:-//AusschreibungsRadar//Timeline//DE
CALSCALE:GREGORIAN
METHOD:PUBLISH
X-WR-CALNAME:Projekt Malerarbeiten
X-WR-TIMEZONE:Europe/Berlin
BEGIN:VEVENT
UID:691eac6c80edda05@ausschreibungsradar.com
DTSTAMP:20260424T144835Z
DTSTART;VALUE=DATE:20240102
DTEND;VALUE=DATE:20240102
SUMMARY:Angebotsfrist — Malerarbeiten
DESCRIPTION:Phase: Ausschreibung | Beschreibung: Angebote werden eingeholt | Link: https://ausschreibungsradar.com/ausschreibung/b5ff5b87-826a-4a3a-b511-d12447874ce8/
URL:https://ausschreibungsradar.com/ausschreibung/b5ff5b87-826a-4a3a-b511-d12447874ce8/
END:VEVENT
END:VCALENDAR
